BEGIN:VCALENDAR
VERSION:2.0
PRODID:-//Roanoke Pinball League - ECPv6.15.20//NONSGML v1.0//EN
CALSCALE:GREGORIAN
METHOD:PUBLISH
X-ORIGINAL-URL:https://roanokepinballleague.com
X-WR-CALDESC:Events for Roanoke Pinball League
REFRESH-INTERVAL;VALUE=DURATION:PT1H
X-Robots-Tag:noindex
X-PUBLISHED-TTL:PT1H
BEGIN:VTIMEZONE
TZID:America/New_York
BEGIN:DAYLIGHT
TZOFFSETFROM:-0500
TZOFFSETTO:-0400
TZNAME:EDT
DTSTART:20250309T070000
END:DAYLIGHT
BEGIN:STANDARD
TZOFFSETFROM:-0400
TZOFFSETTO:-0500
TZNAME:EST
DTSTART:20251102T060000
END:STANDARD
BEGIN:DAYLIGHT
TZOFFSETFROM:-0500
TZOFFSETTO:-0400
TZNAME:EDT
DTSTART:20260308T070000
END:DAYLIGHT
BEGIN:STANDARD
TZOFFSETFROM:-0400
TZOFFSETTO:-0500
TZNAME:EST
DTSTART:20261101T060000
END:STANDARD
BEGIN:DAYLIGHT
TZOFFSETFROM:-0500
TZOFFSETTO:-0400
TZNAME:EDT
DTSTART:20270314T070000
END:DAYLIGHT
BEGIN:STANDARD
TZOFFSETFROM:-0400
TZOFFSETTO:-0500
TZNAME:EST
DTSTART:20271107T060000
END:STANDARD
END:VTIMEZONE
BEGIN:VEVENT
DTSTART;TZID=America/New_York:20260504T190000
DTEND;TZID=America/New_York:20260504T210000
DTSTAMP:20260423T134054
CREATED:20260224T234546Z
LAST-MODIFIED:20260224T234546Z
UID:2796-1777921200-1777928400@roanokepinballleague.com
SUMMARY:Belles Spring 2026 League - Week 3
DESCRIPTION:
URL:https://roanokepinballleague.com/event/belles-spring-2026-league-week-3/
LOCATION:Roanoke Pinball Museum\, 1 Market Square SE (2nd Floor)\, Roanoke\, VA\, 24011\, United States
CATEGORIES:IFPA,League
END:VEVENT
BEGIN:VEVENT
DTSTART;TZID=America/New_York:20260511T180000
DTEND;TZID=America/New_York:20260511T210000
DTSTAMP:20260423T134054
CREATED:20260224T234002Z
LAST-MODIFIED:20260224T234002Z
UID:2780-1778522400-1778533200@roanokepinballleague.com
SUMMARY:RPL Spring 2026 Mixed League - Week 4
DESCRIPTION:
URL:https://roanokepinballleague.com/event/rpl-spring-2026-mixed-league-week-4/
LOCATION:Roanoke Pinball Museum\, 1 Market Square SE (2nd Floor)\, Roanoke\, VA\, 24011\, United States
CATEGORIES:IFPA,League
ORGANIZER;CN="Ben Dudden":MAILTO:roanokepinballleague@gmail.com
END:VEVENT
BEGIN:VEVENT
DTSTART;TZID=America/New_York:20260518T190000
DTEND;TZID=America/New_York:20260518T210000
DTSTAMP:20260423T134054
CREATED:20260224T234622Z
LAST-MODIFIED:20260224T234622Z
UID:2798-1779130800-1779138000@roanokepinballleague.com
SUMMARY:Belles Spring 2026 League - Week 4
DESCRIPTION:
URL:https://roanokepinballleague.com/event/belles-spring-2026-league-week-4/
LOCATION:Roanoke Pinball Museum\, 1 Market Square SE (2nd Floor)\, Roanoke\, VA\, 24011\, United States
CATEGORIES:Belles & Chimes,IFPA,League
END:VEVENT
BEGIN:VEVENT
DTSTART;TZID=America/New_York:20260525T190000
DTEND;TZID=America/New_York:20260525T210000
DTSTAMP:20260423T134054
CREATED:20260224T234036Z
LAST-MODIFIED:20260224T234036Z
UID:2782-1779735600-1779742800@roanokepinballleague.com
SUMMARY:RPL Spring 2026 Mixed League - Week 5
DESCRIPTION:
URL:https://roanokepinballleague.com/event/rpl-spring-2026-mixed-league-week-5/
LOCATION:Roanoke Pinball Museum\, 1 Market Square SE (2nd Floor)\, Roanoke\, VA\, 24011\, United States
CATEGORIES:IFPA,League
ORGANIZER;CN="Ben Dudden":MAILTO:roanokepinballleague@gmail.com
END:VEVENT
END:VCALENDAR