BEGIN:VCALENDAR
VERSION:2.0
PRODID:-//Roanoke Pinball League - ECPv6.15.20//NONSGML v1.0//EN
CALSCALE:GREGORIAN
METHOD:PUBLISH
X-WR-CALNAME:Roanoke Pinball League
X-ORIGINAL-URL:https://roanokepinballleague.com
X-WR-CALDESC:Events for Roanoke Pinball League
REFRESH-INTERVAL;VALUE=DURATION:PT1H
X-Robots-Tag:noindex
X-PUBLISHED-TTL:PT1H
BEGIN:VTIMEZONE
TZID:America/New_York
BEGIN:DAYLIGHT
TZOFFSETFROM:-0500
TZOFFSETTO:-0400
TZNAME:EDT
DTSTART:20250309T070000
END:DAYLIGHT
BEGIN:STANDARD
TZOFFSETFROM:-0400
TZOFFSETTO:-0500
TZNAME:EST
DTSTART:20251102T060000
END:STANDARD
BEGIN:DAYLIGHT
TZOFFSETFROM:-0500
TZOFFSETTO:-0400
TZNAME:EDT
DTSTART:20260308T070000
END:DAYLIGHT
BEGIN:STANDARD
TZOFFSETFROM:-0400
TZOFFSETTO:-0500
TZNAME:EST
DTSTART:20261101T060000
END:STANDARD
BEGIN:DAYLIGHT
TZOFFSETFROM:-0500
TZOFFSETTO:-0400
TZNAME:EDT
DTSTART:20270314T070000
END:DAYLIGHT
BEGIN:STANDARD
TZOFFSETFROM:-0400
TZOFFSETTO:-0500
TZNAME:EST
DTSTART:20271107T060000
END:STANDARD
END:VTIMEZONE
BEGIN:VEVENT
DTSTART;TZID=America/New_York:20260601T190000
DTEND;TZID=America/New_York:20260601T210000
DTSTAMP:20260423T152301
CREATED:20260224T234741Z
LAST-MODIFIED:20260224T234741Z
UID:2800-1780340400-1780347600@roanokepinballleague.com
SUMMARY:Belles Spring 2026 League - Week 5
DESCRIPTION:
URL:https://roanokepinballleague.com/event/belles-spring-2026-league-week-5/
LOCATION:Roanoke Pinball Museum\, 1 Market Square SE (2nd Floor)\, Roanoke\, VA\, 24011\, United States
CATEGORIES:Belles & Chimes,IFPA,League
END:VEVENT
BEGIN:VEVENT
DTSTART;TZID=America/New_York:20260608T190000
DTEND;TZID=America/New_York:20260608T210000
DTSTAMP:20260423T152301
CREATED:20260224T234117Z
LAST-MODIFIED:20260224T234117Z
UID:2784-1780945200-1780952400@roanokepinballleague.com
SUMMARY:RPL Spring 2026 Mixed League - Week 6
DESCRIPTION:
URL:https://roanokepinballleague.com/event/rpl-spring-2026-mixed-league-week-6/
LOCATION:Roanoke Pinball Museum\, 1 Market Square SE (2nd Floor)\, Roanoke\, VA\, 24011\, United States
CATEGORIES:IFPA,League
ORGANIZER;CN="Ben Dudden":MAILTO:roanokepinballleague@gmail.com
END:VEVENT
BEGIN:VEVENT
DTSTART;TZID=America/New_York:20260615T190000
DTEND;TZID=America/New_York:20260615T210000
DTSTAMP:20260423T152301
CREATED:20260224T234821Z
LAST-MODIFIED:20260224T234821Z
UID:2802-1781550000-1781557200@roanokepinballleague.com
SUMMARY:Belles Spring 2026 League - Week 6
DESCRIPTION:
URL:https://roanokepinballleague.com/event/belles-spring-2026-league-week-6/
LOCATION:Roanoke Pinball Museum\, 1 Market Square SE (2nd Floor)\, Roanoke\, VA\, 24011\, United States
CATEGORIES:Belles & Chimes,IFPA,League
END:VEVENT
BEGIN:VEVENT
DTSTART;TZID=America/New_York:20260622T190000
DTEND;TZID=America/New_York:20260622T210000
DTSTAMP:20260423T152301
CREATED:20260224T234149Z
LAST-MODIFIED:20260224T234149Z
UID:2786-1782154800-1782162000@roanokepinballleague.com
SUMMARY:RPL Spring 2026 Mixed League - Week 7
DESCRIPTION:
URL:https://roanokepinballleague.com/event/rpl-spring-2026-mixed-league-week-7/
LOCATION:Roanoke Pinball Museum\, 1 Market Square SE (2nd Floor)\, Roanoke\, VA\, 24011\, United States
CATEGORIES:IFPA,League
ORGANIZER;CN="Ben Dudden":MAILTO:roanokepinballleague@gmail.com
END:VEVENT
BEGIN:VEVENT
DTSTART;TZID=America/New_York:20260629T190000
DTEND;TZID=America/New_York:20260629T210000
DTSTAMP:20260423T152301
CREATED:20260224T234856Z
LAST-MODIFIED:20260224T234856Z
UID:2804-1782759600-1782766800@roanokepinballleague.com
SUMMARY:Belles Spring 2026 League - Week 7
DESCRIPTION:
URL:https://roanokepinballleague.com/event/belles-spring-2026-league-week-7/
LOCATION:Roanoke Pinball Museum\, 1 Market Square SE (2nd Floor)\, Roanoke\, VA\, 24011\, United States
CATEGORIES:Belles & Chimes,IFPA,League
END:VEVENT
END:VCALENDAR