BEGIN:VCALENDAR
VERSION:2.0
PRODID:-//Roanoke Pinball League - ECPv6.15.20//NONSGML v1.0//EN
CALSCALE:GREGORIAN
METHOD:PUBLISH
X-WR-CALNAME:Roanoke Pinball League
X-ORIGINAL-URL:https://roanokepinballleague.com
X-WR-CALDESC:Events for Roanoke Pinball League
REFRESH-INTERVAL;VALUE=DURATION:PT1H
X-Robots-Tag:noindex
X-PUBLISHED-TTL:PT1H
BEGIN:VTIMEZONE
TZID:America/New_York
BEGIN:DAYLIGHT
TZOFFSETFROM:-0500
TZOFFSETTO:-0400
TZNAME:EDT
DTSTART:20240310T070000
END:DAYLIGHT
BEGIN:STANDARD
TZOFFSETFROM:-0400
TZOFFSETTO:-0500
TZNAME:EST
DTSTART:20241103T060000
END:STANDARD
BEGIN:DAYLIGHT
TZOFFSETFROM:-0500
TZOFFSETTO:-0400
TZNAME:EDT
DTSTART:20250309T070000
END:DAYLIGHT
BEGIN:STANDARD
TZOFFSETFROM:-0400
TZOFFSETTO:-0500
TZNAME:EST
DTSTART:20251102T060000
END:STANDARD
BEGIN:DAYLIGHT
TZOFFSETFROM:-0500
TZOFFSETTO:-0400
TZNAME:EDT
DTSTART:20260308T070000
END:DAYLIGHT
BEGIN:STANDARD
TZOFFSETFROM:-0400
TZOFFSETTO:-0500
TZNAME:EST
DTSTART:20261101T060000
END:STANDARD
BEGIN:DAYLIGHT
TZOFFSETFROM:-0500
TZOFFSETTO:-0400
TZNAME:EDT
DTSTART:20270314T070000
END:DAYLIGHT
BEGIN:STANDARD
TZOFFSETFROM:-0400
TZOFFSETTO:-0500
TZNAME:EST
DTSTART:20271107T060000
END:STANDARD
END:VTIMEZONE
BEGIN:VEVENT
DTSTART;TZID=America/New_York:20260420T190000
DTEND;TZID=America/New_York:20260420T210000
DTSTAMP:20260423T154015
CREATED:20260224T234500Z
LAST-MODIFIED:20260224T234500Z
UID:2794-1776711600-1776718800@roanokepinballleague.com
SUMMARY:Belles Spring 2026 League - Week 2
DESCRIPTION:
URL:https://roanokepinballleague.com/event/belles-spring-2026-league-week-2/
LOCATION:Roanoke Pinball Museum\, 1 Market Square SE (2nd Floor)\, Roanoke\, VA\, 24011\, United States
CATEGORIES:Belles & Chimes,IFPA,League
END:VEVENT
BEGIN:VEVENT
DTSTART;TZID=America/New_York:20260413T190000
DTEND;TZID=America/New_York:20260413T210000
DTSTAMP:20260423T154015
CREATED:20260224T233824Z
LAST-MODIFIED:20260224T233824Z
UID:2776-1776106800-1776114000@roanokepinballleague.com
SUMMARY:RPL Spring 2026 Mixed League - Week 2
DESCRIPTION:
URL:https://roanokepinballleague.com/event/rpl-spring-2026-mixed-league-week-2/
LOCATION:Roanoke Pinball Museum\, 1 Market Square SE (2nd Floor)\, Roanoke\, VA\, 24011\, United States
CATEGORIES:IFPA,League
ORGANIZER;CN="Ben Dudden":MAILTO:roanokepinballleague@gmail.com
END:VEVENT
BEGIN:VEVENT
DTSTART;TZID=America/New_York:20260406T190000
DTEND;TZID=America/New_York:20260406T210000
DTSTAMP:20260423T154015
CREATED:20260224T234422Z
LAST-MODIFIED:20260224T235122Z
UID:2792-1775502000-1775509200@roanokepinballleague.com
SUMMARY:Belles Spring 2026 League - Week 1
DESCRIPTION:
URL:https://roanokepinballleague.com/event/belles-spring-2026-league-week-1/
LOCATION:Roanoke Pinball Museum\, 1 Market Square SE (2nd Floor)\, Roanoke\, VA\, 24011\, United States
CATEGORIES:Belles & Chimes,IFPA,League
END:VEVENT
BEGIN:VEVENT
DTSTART;TZID=America/New_York:20260330T190000
DTEND;TZID=America/New_York:20260330T210000
DTSTAMP:20260423T154015
CREATED:20260224T233737Z
LAST-MODIFIED:20260224T233737Z
UID:2774-1774897200-1774904400@roanokepinballleague.com
SUMMARY:RPL Spring 2026 Mixed League - Week 1
DESCRIPTION:Details TBD
URL:https://roanokepinballleague.com/event/rpl-spring-2026-mixed-league-week-1/
LOCATION:Roanoke Pinball Museum\, 1 Market Square SE (2nd Floor)\, Roanoke\, VA\, 24011\, United States
CATEGORIES:IFPA,League
ORGANIZER;CN="Ben Dudden":MAILTO:roanokepinballleague@gmail.com
END:VEVENT
BEGIN:VEVENT
DTSTART;TZID=America/New_York:20260302T180000
DTEND;TZID=America/New_York:20260302T220000
DTSTAMP:20260423T154015
CREATED:20251212T200011Z
LAST-MODIFIED:20251212T200334Z
UID:2659-1772474400-1772488800@roanokepinballleague.com
SUMMARY:Belles of Steel - Winter Series - Week 3
DESCRIPTION:Ladies-only Womens Rated IFPA Pinball Tournament \nThe Belles of Steel Winter Series 2026 @ Roanoke Pinball Museum will consist of 3 separate tournaments on 3 separate dates (1/19\, 2/2\, & 3/2). \nEach Tournament will cost $15 to enter + $5 museum admission (waived for RPM members) in lieu of coin drop. $14 will go to the prize pool\, $1 to IFPA fees. \nTop 4 will split the prize pool as follows: 1st – 50%\, 2nd – 25%\, 3rd – 15%\, 4th – 10% \nWe will do 7 – 10 strikes in Fair Strikes format (size of groups depend on turnout) until we get our top half of finalists\, who will then compete in an Amazing Race playoff. \nBeginners Welcome! Practice begins at 6pm\, tournament at 7pm.
URL:https://roanokepinballleague.com/event/belles-of-steel-winter-series-week-3/
LOCATION:Roanoke Pinball Museum\, 1 Market Square SE (2nd Floor)\, Roanoke\, VA\, 24011\, United States
CATEGORIES:Belles & Chimes,IFPA,tournament
END:VEVENT
BEGIN:VEVENT
DTSTART;TZID=America/New_York:20260228T180000
DTEND;TZID=America/New_York:20260228T210000
DTSTAMP:20260423T154015
CREATED:20260125T152821Z
LAST-MODIFIED:20260125T152822Z
UID:2755-1772301600-1772312400@roanokepinballleague.com
SUMMARY:Belles of Steel @ Golden Cactus
DESCRIPTION:The Belles of Steel are back for another Women’s Rated tournament @ Golden Cactus Brewing!\nRegistration starts at 5pm\, tournament starts at 6pm.\nThis will be an 8-strike Group Knockout\, with the top 4 players getting prize money.\n\n$10 to enter + coin drop$1 to IFPA\, $9 to prize pool for top 4 (50% 1st\, 25% 2nd\, 15% 3rd\, 10% 4th)\nCash only\, no cards.
URL:https://roanokepinballleague.com/event/belles-of-steel-golden-cactus/
LOCATION:Golden Cactus Brewing\, 214 5th St SW\, Roanoke\, VA\, 24019\, United States
CATEGORIES:Belles & Chimes,IFPA,knockout,tournament
ATTACH;FMTTYPE=image/jpeg:https://roanokepinballleague.com/wp-content/uploads/2026/01/616798589_10166484674607542_4447712450623313607_n.jpg
END:VEVENT
BEGIN:VEVENT
DTSTART;TZID=America/New_York:20260223T180000
DTEND;TZID=America/New_York:20260223T220000
DTSTAMP:20260423T154015
CREATED:20251212T194632Z
LAST-MODIFIED:20260128T133554Z
UID:2650-1771869600-1771884000@roanokepinballleague.com
SUMMARY:RPL Mixed League - Winter Series - Week 3
DESCRIPTION:The Roanoke Pinball League’s 2026 Winter Series will consist of 4 standalone tournaments\, held every other Monday (1/12\, 1/26\, 2/9\, 2/23). \nDoors open at 6pm for practice and registration\, tournament begins at 7pm sharp. \nFormat will be 10 rounds of Max Match\, followed by an Amazing Race playoff (number of finalists determined by attendance). \nTop 4 players get prize money (1st: 50%\, 2nd: 25%\, 3rd: 15%\, 4th: 10%). \nTournament entry is $15\, plus $5 museum entry (waived for RPM members) in lieu of coin drop.
URL:https://roanokepinballleague.com/event/rpl-mixed-league-winter-series-week-3/
LOCATION:Roanoke Pinball Museum\, 1 Market Square SE (2nd Floor)\, Roanoke\, VA\, 24011\, United States
CATEGORIES:IFPA,Max Match Play,tournament
ATTACH;FMTTYPE=image/jpeg:https://roanokepinballleague.com/wp-content/uploads/2025/12/603838240_1181229360871948_3671577524198568572_n.jpg
ORGANIZER;CN="Ben Dudden":MAILTO:roanokepinballleague@gmail.com
END:VEVENT
BEGIN:VEVENT
DTSTART;TZID=America/New_York:20260219T183000
DTEND;TZID=America/New_York:20260219T210000
DTSTAMP:20260423T154015
CREATED:20260125T151027Z
LAST-MODIFIED:20260125T151027Z
UID:2750-1771525800-1771534800@roanokepinballleague.com
SUMMARY:Prickly Flippers @ Golden Cactus
DESCRIPTION:We’re back again with another 7-strike knockout at Golden Cactus Brewing! \nFair Strikes format (0/1/1/2)\, top 4 players get prize money (50%/25%/15%/10%). \nRegistration at 6pm\, tournament at 6:30pm. Just $10 entry\, games set to coin drop. No cards\, cash only.
URL:https://roanokepinballleague.com/event/prickly-flippers-golden-cactus-2/
LOCATION:Golden Cactus Brewing\, 214 5th St SW\, Roanoke\, VA\, 24019\, United States
CATEGORIES:IFPA,knockout,tournament
ATTACH;FMTTYPE=image/jpeg:https://roanokepinballleague.com/wp-content/uploads/2026/01/PRICKLY-FLIPPERS-2.jpg
ORGANIZER;CN="Ben Dudden":MAILTO:roanokepinballleague@gmail.com
END:VEVENT
BEGIN:VEVENT
DTSTART;TZID=America/New_York:20260216T190000
DTEND;TZID=America/New_York:20260216T220000
DTSTAMP:20260423T154015
CREATED:20251211T003538Z
LAST-MODIFIED:20251211T003539Z
UID:2613-1771268400-1771279200@roanokepinballleague.com
SUMMARY:Belles of Steel "GALENTINE" 2026
DESCRIPTION:Ladies-Only women’s rated IFPA tournament @ Roanoke Pinball Museum to celebrate Galentine with my favorite gals!\nMonday Feb 16th. Practice starts at 6pm\, tournament starts at 7pm.\n\n$20 to enter + $5 museum entry fee (waived for museum members) in lieu of coin drop. $19 to prize pool\, $1 to IFPA.\n\nTop 4 splits prize pool1st – 50%\, 2nd – 25%\, 3rd – 15%\,  4th – 10%\n\nThis will be an 8-game Best Game format like on league nights with the top 4\, 6\, or 8 (depending on turnout) competing in a 3-game Group Matchplay till we get our top 4. Let’s make it a party\, potluck-style. Beginners welcome. Hope to see you all there!
URL:https://roanokepinballleague.com/event/belles-of-steel-galentine-2026/
LOCATION:Roanoke Pinball Museum\, 1 Market Square SE (2nd Floor)\, Roanoke\, VA\, 24011\, United States
CATEGORIES:Belles & Chimes,IFPA,tournament
ATTACH;FMTTYPE=image/jpeg:https://roanokepinballleague.com/wp-content/uploads/2025/12/galentine.jpg
END:VEVENT
BEGIN:VEVENT
DTSTART;TZID=America/New_York:20260209T180000
DTEND;TZID=America/New_York:20260209T220000
DTSTAMP:20260423T154015
CREATED:20251212T194440Z
LAST-MODIFIED:20260128T133544Z
UID:2647-1770660000-1770674400@roanokepinballleague.com
SUMMARY:RPL Mixed League - Winter Series - Week 2
DESCRIPTION:The Roanoke Pinball League’s 2026 Winter Series will consist of 4 standalone tournaments\, held every other Monday (1/12\, 1/26\, 2/9\, 2/23). \nDoors open at 6pm for practice and registration\, tournament begins at 7pm sharp. \nFormat will be 10 rounds of Max Match\, followed by an Amazing Race playoff (number of finalists determined by attendance). \nTop 4 players get prize money (1st: 50%\, 2nd: 25%\, 3rd: 15%\, 4th: 10%). \nTournament entry is $15\, plus $5 museum entry (waived for RPM members) in lieu of coin drop.
URL:https://roanokepinballleague.com/event/rpl-mixed-league-winter-series-week-2/
LOCATION:Roanoke Pinball Museum\, 1 Market Square SE (2nd Floor)\, Roanoke\, VA\, 24011\, United States
CATEGORIES:IFPA,Max Match Play,tournament
ATTACH;FMTTYPE=image/jpeg:https://roanokepinballleague.com/wp-content/uploads/2025/12/603838240_1181229360871948_3671577524198568572_n.jpg
ORGANIZER;CN="Ben Dudden":MAILTO:roanokepinballleague@gmail.com
END:VEVENT
BEGIN:VEVENT
DTSTART;TZID=America/New_York:20260202T180000
DTEND;TZID=America/New_York:20260202T220000
DTSTAMP:20260423T154015
CREATED:20251212T195835Z
LAST-MODIFIED:20260128T133526Z
UID:2655-1770055200-1770069600@roanokepinballleague.com
SUMMARY:Belles of Steel - Winter Series - Week 2
DESCRIPTION:Ladies-only Womens Rated IFPA Pinball Tournament \nThe Belles of Steel Winter Series 2026 @ Roanoke Pinball Museum will consist of 3 separate tournaments on 3 separate dates (1/19\, 2/2\, & 3/2). \nEach Tournament will cost $15 to enter + $5 museum admission (waived for RPM members) in lieu of coin drop. $14 will go to the prize pool\, $1 to IFPA fees. \nTop 4 will split the prize pool as follows: 1st – 50%\, 2nd – 25%\, 3rd – 15%\, 4th – 10% \nWe will do 7 – 10 strikes in Fair Strikes format (size of groups depend on turnout) until we get our top half of finalists\, who will then compete in an Amazing Race playoff. \nBeginners Welcome! Practice begins at 6pm\, tournament at 7pm.
URL:https://roanokepinballleague.com/event/belles-of-steel-winter-series-week-2/
LOCATION:Roanoke Pinball Museum\, 1 Market Square SE (2nd Floor)\, Roanoke\, VA\, 24011\, United States
CATEGORIES:Belles & Chimes,IFPA,tournament
END:VEVENT
BEGIN:VEVENT
DTSTART;TZID=America/New_York:20260119T180000
DTEND;TZID=America/New_York:20260119T220000
DTSTAMP:20260423T154015
CREATED:20251212T195637Z
LAST-MODIFIED:20251212T200357Z
UID:2653-1768845600-1768860000@roanokepinballleague.com
SUMMARY:Belles of Steel - Winter Series - Week 1
DESCRIPTION:Ladies-only Womens Rated IFPA Pinball Tournament \nThe Belles of Steel Winter Series 2026 @ Roanoke Pinball Museum will consist of 3 separate tournaments on 3 separate dates (1/19\, 2/2\, & 3/2). \nEach Tournament will cost $15 to enter + $5 museum admission (waived for RPM members) in lieu of coin drop. $14 will go to the prize pool\, $1 to IFPA fees. \nTop 4 will split the prize pool as follows: 1st – 50%\, 2nd – 25%\, 3rd – 15%\, 4th – 10% \nWe will do 7 – 10 strikes in Fair Strikes format (size of groups depend on turnout) until we get our top half of finalists\, who will then compete in an Amazing Race playoff. \nBeginners Welcome! Practice begins at 6pm\, tournament at 7pm.
URL:https://roanokepinballleague.com/event/belles-of-steel-winter-series-week-1/
LOCATION:Roanoke Pinball Museum\, 1 Market Square SE (2nd Floor)\, Roanoke\, VA\, 24011\, United States
CATEGORIES:Belles & Chimes,IFPA,knockout,tournament
END:VEVENT
BEGIN:VEVENT
DTSTART;TZID=America/New_York:20260115T183000
DTEND;TZID=America/New_York:20260115T210000
DTSTAMP:20260423T154015
CREATED:20251211T143931Z
LAST-MODIFIED:20251211T143931Z
UID:2622-1768501800-1768510800@roanokepinballleague.com
SUMMARY:Prickly Flippers @ Golden Cactus
DESCRIPTION:7-strike knockout (fair strikes 0-1-1-2). Prize money for top 4 players (1st: 50%\, 2nd: 25%\, 3rd: 15%\, 4th: 10%) \nRegistration starts at 5:30pm\, tournament starts at 6:30 sharp. \n$10 entry fee\, games will be set to coin play.
URL:https://roanokepinballleague.com/event/prickly-flippers-golden-cactus/
LOCATION:Golden Cactus Brewing\, 214 5th St SW\, Roanoke\, VA\, 24019\, United States
CATEGORIES:IFPA,knockout,tournament
ORGANIZER;CN="Ben Dudden":MAILTO:roanokepinballleague@gmail.com
END:VEVENT
BEGIN:VEVENT
DTSTART;TZID=America/New_York:20260112T180000
DTEND;TZID=America/New_York:20260112T220000
DTSTAMP:20260423T154015
CREATED:20251212T194134Z
LAST-MODIFIED:20260104T185412Z
UID:2642-1768240800-1768255200@roanokepinballleague.com
SUMMARY:RPL Mixed League - Winter Series - Week 1
DESCRIPTION:The Roanoke Pinball League’s 2026 Winter Series will consist of 4 standalone tournaments\, held every other Monday (1/12\, 1/26\, 2/9\, 2/23). \nDoors open at 6pm for practice and registration\, tournament begins at 7pm sharp. \nFormat will be 10 rounds of Max Match\, followed by an Amazing Race playoff (number of finalists determined by attendance). \nTop 4 players get prize money (1st: 50%\, 2nd: 25%\, 3rd: 15%\, 4th: 10%). \nTournament entry is $15\, plus $5 museum entry (waived for RPM members) in lieu of coin drop.
URL:https://roanokepinballleague.com/event/rpl-mixed-league-winter-series-week-1/
LOCATION:Roanoke Pinball Museum\, 1 Market Square SE (2nd Floor)\, Roanoke\, VA\, 24011\, United States
CATEGORIES:IFPA,Max Match Play,tournament
ATTACH;FMTTYPE=image/jpeg:https://roanokepinballleague.com/wp-content/uploads/2025/12/603838240_1181229360871948_3671577524198568572_n.jpg
ORGANIZER;CN="Ben Dudden":MAILTO:roanokepinballleague@gmail.com
END:VEVENT
BEGIN:VEVENT
DTSTART;TZID=America/New_York:20260111T130000
DTEND;TZID=America/New_York:20260111T170000
DTSTAMP:20260423T154015
CREATED:20251210T163141Z
LAST-MODIFIED:20251210T163232Z
UID:2607-1768136400-1768150800@roanokepinballleague.com
SUMMARY:Belles of Steel @ Galactic Arcade
DESCRIPTION:Ladies-only tournament at Galactic Arcade inside Valley View Mall. Registration starts at noon\, tournament starts at 1:00pm.$10 to enter\, and you will need to purchase a card for credits to use to play the games. $1 to IFPA\, $9 to prize pool.This is a women’s rated IFPA event. Group Matchplay format (7/5/3/1 for 4-player groups — 7/4/1 for 3-player groups.) We will do 8-10 rounds depending on time\, then top half or top 4 (whichever is greater) will compete in a 3-game Group Match playoff. Prize payout: 50% 1st\, 25% 2nd\, 15% 3rd\, 10% 4th.
URL:https://roanokepinballleague.com/event/belles-of-steel-galactic-arcade/
LOCATION:Galactic Arcade\, 4802 Valley View Blvd NW\, Roanoke\, VA\, 24012\, United States
CATEGORIES:Belles & Chimes,IFPA,tournament
ATTACH;FMTTYPE=image/jpeg:https://roanokepinballleague.com/wp-content/uploads/2025/12/galactic.jpg
END:VEVENT
BEGIN:VEVENT
DTSTART;TZID=America/New_York:20251228T130000
DTEND;TZID=America/New_York:20251228T170000
DTSTAMP:20260423T154015
CREATED:20251203T181919Z
LAST-MODIFIED:20251210T163407Z
UID:2605-1766926800-1766941200@roanokepinballleague.com
SUMMARY:Belles of Steel Holiday Flip-Off
DESCRIPTION:Ladies-only pinball tournament @ Golden Cactus Brewing\, Sunday Dec 28th. \nRegistration starts at 12:00\, tournament starts at 1:00 \nAll skill levels Welcome! Beginners encouraged to come try it out. It’s a blast!\n$10 entry + coin drop\n$1 to IFPA $9 to prize pool for top 4\n50% 1st\, 25% 2nd\, 15% 3rd\, 10% 4th\nHope to see you all there! \nFair strikes format (0/1/1/2 – 4 player groups\, 0/1/2 – 3 player groups). 7 strikes until we get our finalists (4\, 6\, or 8 depending on number of players). Finals will be 1-3 games\, depending on time\, of group matchplay (7/5/3/1).
URL:https://roanokepinballleague.com/event/belles-of-steel-holiday-flip-off/
LOCATION:Golden Cactus Brewing\, 214 5th St SW\, Roanoke\, VA\, 24019\, United States
CATEGORIES:Belles & Chimes,IFPA,tournament
ATTACH;FMTTYPE=image/jpeg:https://roanokepinballleague.com/wp-content/uploads/2025/12/bellesholiday.jpg
END:VEVENT
BEGIN:VEVENT
DTSTART;TZID=America/New_York:20251215T180000
DTEND;TZID=America/New_York:20251215T210000
DTSTAMP:20260423T154015
CREATED:20250421T234926Z
LAST-MODIFIED:20251210T163445Z
UID:2288-1765821600-1765832400@roanokepinballleague.com
SUMMARY:RPL Fall League - Playoffs
DESCRIPTION:
URL:https://roanokepinballleague.com/event/rpl-fall-league-playoffs/
LOCATION:Roanoke Pinball Museum\, 1 Market Square SE (2nd Floor)\, Roanoke\, VA\, 24011\, United States
CATEGORIES:IFPA,League
ORGANIZER;CN="Ben Dudden":MAILTO:roanokepinballleague@gmail.com
END:VEVENT
BEGIN:VEVENT
DTSTART;TZID=America/New_York:20251201T180000
DTEND;TZID=America/New_York:20251201T210000
DTSTAMP:20260423T154015
CREATED:20250421T235526Z
LAST-MODIFIED:20250421T235526Z
UID:2302-1764612000-1764622800@roanokepinballleague.com
SUMMARY:B&C Fall league - Playoffs
DESCRIPTION:
URL:https://roanokepinballleague.com/event/bc-fall-league-playoffs/
LOCATION:Roanoke Pinball Museum\, 1 Market Square SE (2nd Floor)\, Roanoke\, VA\, 24011\, United States
CATEGORIES:Belles & Chimes,IFPA,League
END:VEVENT
BEGIN:VEVENT
DTSTART;TZID=America/New_York:20251130T120000
DTEND;TZID=America/New_York:20251130T170000
DTSTAMP:20260423T154015
CREATED:20251104T012401Z
LAST-MODIFIED:20251105T220752Z
UID:2574-1764504000-1764522000@roanokepinballleague.com
SUMMARY:Belles of Steel @ Golden Cactus Brewing
DESCRIPTION:This is a ladies-only IFPA women’s ranked tournament at Golden Cactus Brewing! \nDoors open at 11am\, registration starts at 12pm\, and tournament starts at 1pm. \nWe will do 3 hours of matchplay qualifying (7/5/3/1 for 4-player groups\, 7/4/1 for 3-player groups). The top 6 to 8 players (depending on turnout) will then compete in an Amazing Race final. \nAll skill levels welcomed. \nOnly $10 to enter\, plus coin drop. \n$1 to IFPA\, $9 to prize pool\, awarded to the top 4 finishers (1st: 50%\, 2nd: 25%\, 3rd: 15%\, 4th: 10%)
URL:https://roanokepinballleague.com/event/belles-of-steel-golden-cactus-brewing/
LOCATION:Golden Cactus Brewing\, 214 5th St SW\, Roanoke\, VA\, 24019\, United States
CATEGORIES:Belles & Chimes,IFPA,tournament
ATTACH;FMTTYPE=image/jpeg:https://roanokepinballleague.com/wp-content/uploads/2025/11/cactus-tournament.jpg
END:VEVENT
BEGIN:VEVENT
DTSTART;TZID=America/New_York:20251124T180000
DTEND;TZID=America/New_York:20251124T210000
DTSTAMP:20260423T154015
CREATED:20250421T234841Z
LAST-MODIFIED:20250421T234841Z
UID:2286-1764007200-1764018000@roanokepinballleague.com
SUMMARY:RPL Fall League - Week 8
DESCRIPTION:
URL:https://roanokepinballleague.com/event/rpl-fall-league-week-8/
LOCATION:Roanoke Pinball Museum\, 1 Market Square SE (2nd Floor)\, Roanoke\, VA\, 24011\, United States
CATEGORIES:IFPA,League
ORGANIZER;CN="Ben Dudden":MAILTO:roanokepinballleague@gmail.com
END:VEVENT
BEGIN:VEVENT
DTSTART;TZID=America/New_York:20251117T180000
DTEND;TZID=America/New_York:20251117T210000
DTSTAMP:20260423T154015
CREATED:20250421T235443Z
LAST-MODIFIED:20250421T235443Z
UID:2300-1763402400-1763413200@roanokepinballleague.com
SUMMARY:B&C Fall league - Week 6
DESCRIPTION:
URL:https://roanokepinballleague.com/event/bc-fall-league-week-6/
LOCATION:Roanoke Pinball Museum\, 1 Market Square SE (2nd Floor)\, Roanoke\, VA\, 24011\, United States
CATEGORIES:Belles & Chimes,IFPA,League
END:VEVENT
BEGIN:VEVENT
DTSTART;TZID=America/New_York:20251110T180000
DTEND;TZID=America/New_York:20251110T210000
DTSTAMP:20260423T154015
CREATED:20250421T234801Z
LAST-MODIFIED:20250421T234801Z
UID:2284-1762797600-1762808400@roanokepinballleague.com
SUMMARY:RPL Fall League - Week 7
DESCRIPTION:
URL:https://roanokepinballleague.com/event/rpl-fall-league-week-7/
LOCATION:Roanoke Pinball Museum\, 1 Market Square SE (2nd Floor)\, Roanoke\, VA\, 24011\, United States
CATEGORIES:IFPA,League
ORGANIZER;CN="Ben Dudden":MAILTO:roanokepinballleague@gmail.com
END:VEVENT
BEGIN:VEVENT
DTSTART;TZID=America/New_York:20251103T180000
DTEND;TZID=America/New_York:20251103T210000
DTSTAMP:20260423T154015
CREATED:20250421T235358Z
LAST-MODIFIED:20250421T235358Z
UID:2298-1762192800-1762203600@roanokepinballleague.com
SUMMARY:B&C Fall league - Week 5
DESCRIPTION:
URL:https://roanokepinballleague.com/event/bc-fall-league-week-5/
LOCATION:Roanoke Pinball Museum\, 1 Market Square SE (2nd Floor)\, Roanoke\, VA\, 24011\, United States
CATEGORIES:Belles & Chimes,IFPA,League
END:VEVENT
BEGIN:VEVENT
DTSTART;TZID=America/New_York:20251029T180000
DTEND;TZID=America/New_York:20251029T210000
DTSTAMP:20260423T154015
CREATED:20250904T224543Z
LAST-MODIFIED:20250904T224544Z
UID:2531-1761760800-1761771600@roanokepinballleague.com
SUMMARY:Belles of Steel Halloween Tournament @ Big Lick Brewing
DESCRIPTION:The Belles are back in town (Belles are back in town)! \nLadies\, come out to Big Lick Brewing for a decidedly spooky IFPA women’s tournament — Halloween Costumes encouraged! \nThis one will be a Fair Strikes knockout\, with cash prizes for the top 4 players\, and an award for Best Costume! \nArrive by 5:45pm\, tournament starts at 6pm. $10 entry + coin drop. Limit 16 participants. Send inquiries to belles@roanokepinballleague.com
URL:https://roanokepinballleague.com/event/belles-of-steel-halloween-tournament-big-lick-brewing/
LOCATION:Big Lick Brewing Co.\, 409 Salem Ave SW\, ROANOKE\, VA\, 24016\, United States
CATEGORIES:Belles & Chimes,IFPA,tournament
ATTACH;FMTTYPE=image/png:https://roanokepinballleague.com/wp-content/uploads/2025/09/7419839313839460951-1.png
END:VEVENT
BEGIN:VEVENT
DTSTART;TZID=America/New_York:20251027T180000
DTEND;TZID=America/New_York:20251027T210000
DTSTAMP:20260423T154015
CREATED:20250421T234644Z
LAST-MODIFIED:20250421T234644Z
UID:2282-1761588000-1761598800@roanokepinballleague.com
SUMMARY:RPL Fall League - Week 6
DESCRIPTION:
URL:https://roanokepinballleague.com/event/rpl-fall-league-week-6/
LOCATION:Roanoke Pinball Museum\, 1 Market Square SE (2nd Floor)\, Roanoke\, VA\, 24011\, United States
CATEGORIES:IFPA,League
ORGANIZER;CN="Ben Dudden":MAILTO:roanokepinballleague@gmail.com
END:VEVENT
BEGIN:VEVENT
DTSTART;TZID=America/New_York:20251020T180000
DTEND;TZID=America/New_York:20251020T210000
DTSTAMP:20260423T154015
CREATED:20250421T235302Z
LAST-MODIFIED:20250421T235302Z
UID:2296-1760983200-1760994000@roanokepinballleague.com
SUMMARY:B&C Fall league - Week 4
DESCRIPTION:
URL:https://roanokepinballleague.com/event/bc-fall-league-week-4/
LOCATION:Roanoke Pinball Museum\, 1 Market Square SE (2nd Floor)\, Roanoke\, VA\, 24011\, United States
CATEGORIES:Belles & Chimes,IFPA,League
END:VEVENT
BEGIN:VEVENT
DTSTART;TZID=America/New_York:20251013T180000
DTEND;TZID=America/New_York:20251013T210000
DTSTAMP:20260423T154015
CREATED:20250421T234426Z
LAST-MODIFIED:20250421T234426Z
UID:2278-1760378400-1760389200@roanokepinballleague.com
SUMMARY:RPL Fall League - Week 5
DESCRIPTION:
URL:https://roanokepinballleague.com/event/rpl-fall-league-week-5/
LOCATION:Roanoke Pinball Museum\, 1 Market Square SE (2nd Floor)\, Roanoke\, VA\, 24011\, United States
CATEGORIES:IFPA,League
ORGANIZER;CN="Ben Dudden":MAILTO:roanokepinballleague@gmail.com
END:VEVENT
BEGIN:VEVENT
DTSTART;TZID=America/New_York:20251006T180000
DTEND;TZID=America/New_York:20251006T210000
DTSTAMP:20260423T154015
CREATED:20250421T235203Z
LAST-MODIFIED:20250421T235203Z
UID:2294-1759773600-1759784400@roanokepinballleague.com
SUMMARY:B&C Fall league - Week 3
DESCRIPTION:
URL:https://roanokepinballleague.com/event/bc-fall-league-week-3/
LOCATION:Roanoke Pinball Museum\, 1 Market Square SE (2nd Floor)\, Roanoke\, VA\, 24011\, United States
CATEGORIES:Belles & Chimes,IFPA,League
END:VEVENT
BEGIN:VEVENT
DTSTART;TZID=America/New_York:20250929T180000
DTEND;TZID=America/New_York:20250929T210000
DTSTAMP:20260423T154015
CREATED:20250421T234328Z
LAST-MODIFIED:20250421T234544Z
UID:2276-1759168800-1759179600@roanokepinballleague.com
SUMMARY:RPL Fall League - Week 4
DESCRIPTION:
URL:https://roanokepinballleague.com/event/rpl-fall-league-week-4/
LOCATION:Roanoke Pinball Museum\, 1 Market Square SE (2nd Floor)\, Roanoke\, VA\, 24011\, United States
CATEGORIES:IFPA,League
ORGANIZER;CN="Ben Dudden":MAILTO:roanokepinballleague@gmail.com
END:VEVENT
BEGIN:VEVENT
DTSTART;TZID=America/New_York:20250925T183000
DTEND;TZID=America/New_York:20250925T210000
DTSTAMP:20260423T154015
CREATED:20250830T143439Z
LAST-MODIFIED:20250830T143544Z
UID:2526-1758825000-1758834000@roanokepinballleague.com
SUMMARY:Prickly Flippers Tournament @ Golden Cactus
DESCRIPTION:We’re back at Golden Cactus Brewing for a new tournament! This one will be a Fair Strikes knockout\, with an Amazing Race-style playoff. \nFor qualifying\, we will play a 7-strike knockout in groups of 4 (scored 0/1/1/2) until half of the participants have been eliminated. The remaining top half will then proceed to the playoff. \nThe playoff will be Amazing Race format\, in which a series of games will be played by all players\, with the lowest scoring player on each game being eliminated until there is just one remaining. As soon as any player is not the lowest scorer on a game\, they move on to the next game. \nCash prizes will be awarded to the top 4 players: 1st – 50%\, 2nd – 25%\, 3rd – 15%\, 4th – 10% \nEntry cost is $10\, games will be set to coin play. Registration will begin at 5:30 pm\, tournament begins at 6:30 sharp.
URL:https://roanokepinballleague.com/event/prickly-flippers-tournament-golden-cactus-3/
LOCATION:Golden Cactus Brewing\, 214 5th St SW\, Roanoke\, VA\, 24019\, United States
CATEGORIES:IFPA,tournament
ATTACH;FMTTYPE=image/jpeg:https://roanokepinballleague.com/wp-content/uploads/2025/08/PRICKLY-FLIPPERS.jpg
ORGANIZER;CN="Ben Dudden":MAILTO:roanokepinballleague@gmail.com
END:VEVENT
END:VCALENDAR