BEGIN:VCALENDAR
VERSION:2.0
PRODID:-//Roanoke Pinball League - ECPv6.15.20//NONSGML v1.0//EN
CALSCALE:GREGORIAN
METHOD:PUBLISH
X-ORIGINAL-URL:https://roanokepinballleague.com
X-WR-CALDESC:Events for Roanoke Pinball League
REFRESH-INTERVAL;VALUE=DURATION:PT1H
X-Robots-Tag:noindex
X-PUBLISHED-TTL:PT1H
BEGIN:VTIMEZONE
TZID:America/New_York
BEGIN:DAYLIGHT
TZOFFSETFROM:-0500
TZOFFSETTO:-0400
TZNAME:EDT
DTSTART:20230312T070000
END:DAYLIGHT
BEGIN:STANDARD
TZOFFSETFROM:-0400
TZOFFSETTO:-0500
TZNAME:EST
DTSTART:20231105T060000
END:STANDARD
BEGIN:DAYLIGHT
TZOFFSETFROM:-0500
TZOFFSETTO:-0400
TZNAME:EDT
DTSTART:20240310T070000
END:DAYLIGHT
BEGIN:STANDARD
TZOFFSETFROM:-0400
TZOFFSETTO:-0500
TZNAME:EST
DTSTART:20241103T060000
END:STANDARD
BEGIN:DAYLIGHT
TZOFFSETFROM:-0500
TZOFFSETTO:-0400
TZNAME:EDT
DTSTART:20250309T070000
END:DAYLIGHT
BEGIN:STANDARD
TZOFFSETFROM:-0400
TZOFFSETTO:-0500
TZNAME:EST
DTSTART:20251102T060000
END:STANDARD
BEGIN:DAYLIGHT
TZOFFSETFROM:-0500
TZOFFSETTO:-0400
TZNAME:EDT
DTSTART:20260308T070000
END:DAYLIGHT
BEGIN:STANDARD
TZOFFSETFROM:-0400
TZOFFSETTO:-0500
TZNAME:EST
DTSTART:20261101T060000
END:STANDARD
END:VTIMEZONE
BEGIN:VEVENT
DTSTART;TZID=America/New_York:20250224T180000
DTEND;TZID=America/New_York:20250224T210000
DTSTAMP:20260424T001918
CREATED:20241112T152159Z
LAST-MODIFIED:20241112T152200Z
UID:1956-1740420000-1740430800@roanokepinballleague.com
SUMMARY:Belles & Chimes Spring League - Week 1
DESCRIPTION:
URL:https://roanokepinballleague.com/event/belles-chimes-spring-league-week-1/
LOCATION:Roanoke Pinball Museum\, 1 Market Square SE (2nd Floor)\, Roanoke\, VA\, 24011\, United States
CATEGORIES:Belles & Chimes,IFPA,League
ORGANIZER;CN="Heidi Schmidt":MAILTO:schmidt.heidi@gmail.com
END:VEVENT
BEGIN:VEVENT
DTSTART;TZID=America/New_York:20250217T180000
DTEND;TZID=America/New_York:20250217T210000
DTSTAMP:20260424T001918
CREATED:20241120T142134Z
LAST-MODIFIED:20241120T142134Z
UID:1985-1739815200-1739826000@roanokepinballleague.com
SUMMARY:RPL Spring 2025 League - Week 3
DESCRIPTION:
URL:https://roanokepinballleague.com/event/rpl-spring-2025-league-week-3/
LOCATION:Roanoke Pinball Museum\, 1 Market Square SE (2nd Floor)\, Roanoke\, VA\, 24011\, United States
CATEGORIES:IFPA,League
ORGANIZER;CN="Ben Dudden":MAILTO:roanokepinballleague@gmail.com
END:VEVENT
BEGIN:VEVENT
DTSTART;TZID=America/New_York:20250203T180000
DTEND;TZID=America/New_York:20250203T210000
DTSTAMP:20260424T001918
CREATED:20241120T142027Z
LAST-MODIFIED:20241120T142027Z
UID:1983-1738605600-1738616400@roanokepinballleague.com
SUMMARY:RPL Spring 2025 League - Week 2
DESCRIPTION:
URL:https://roanokepinballleague.com/event/rpl-spring-2025-league-week-2/
LOCATION:Roanoke Pinball Museum\, 1 Market Square SE (2nd Floor)\, Roanoke\, VA\, 24011\, United States
CATEGORIES:IFPA,League
ORGANIZER;CN="Ben Dudden":MAILTO:roanokepinballleague@gmail.com
END:VEVENT
BEGIN:VEVENT
DTSTART;TZID=America/New_York:20250120T180000
DTEND;TZID=America/New_York:20250120T210000
DTSTAMP:20260424T001918
CREATED:20241120T141854Z
LAST-MODIFIED:20241120T141854Z
UID:1981-1737396000-1737406800@roanokepinballleague.com
SUMMARY:RPL Spring League - Week 1
DESCRIPTION:
URL:https://roanokepinballleague.com/event/rpl-spring-league-week-1/
LOCATION:Roanoke Pinball Museum\, 1 Market Square SE (2nd Floor)\, Roanoke\, VA\, 24011\, United States
CATEGORIES:IFPA,League
ORGANIZER;CN="Ben Dudden":MAILTO:roanokepinballleague@gmail.com
END:VEVENT
BEGIN:VEVENT
DTSTART;TZID=America/New_York:20250119T180000
DTEND;TZID=America/New_York:20250119T220000
DTSTAMP:20260424T001918
CREATED:20241112T160631Z
LAST-MODIFIED:20241224T013628Z
UID:1971-1737309600-1737324000@roanokepinballleague.com
SUMMARY:Belles & Chimes Winter Tournament
DESCRIPTION:Ladies\, join us in January for a special Belles & Chimes tournament! \nOpen to ALL women\, we will be having a 15-round Max Match tournament\, with practice starting at 6pm\, and the tournament at 7pm. Finals will be 3 games for the top 4 competitors. Cash prizes\, and IFPA points awarded. Don’t miss it! \nEntry is $20 (+$5 museum entry fee\, waived for members)
URL:https://roanokepinballleague.com/event/belles-chimes-winter-tournament/
LOCATION:Roanoke Pinball Museum\, 1 Market Square SE (2nd Floor)\, Roanoke\, VA\, 24011\, United States
CATEGORIES:Belles & Chimes,IFPA,Max Match Play,tournament
ATTACH;FMTTYPE=image/jpeg:https://roanokepinballleague.com/wp-content/uploads/2024/11/Copy-of-Belles-Chimes-Fall-2024-1920-x-1080-px.jpg
ORGANIZER;CN="Heidi Schmidt":MAILTO:schmidt.heidi@gmail.com
END:VEVENT
BEGIN:VEVENT
DTSTART;TZID=America/New_York:20241215T180000
DTEND;TZID=America/New_York:20241215T220000
DTSTAMP:20260424T001918
CREATED:20240820T143817Z
LAST-MODIFIED:20240820T143817Z
UID:1805-1734285600-1734300000@roanokepinballleague.com
SUMMARY:Monthly Max Match Tournament
DESCRIPTION:
URL:https://roanokepinballleague.com/event/monthly-max-match-tournament-4/
LOCATION:Roanoke Pinball Museum\, 1 Market Square SE (2nd Floor)\, Roanoke\, VA\, 24011\, United States
CATEGORIES:IFPA,Max Match Play,tournament
ATTACH;FMTTYPE=image/png:https://roanokepinballleague.com/wp-content/uploads/2024/01/tourney.png
ORGANIZER;CN="Ben Dudden":MAILTO:roanokepinballleague@gmail.com
END:VEVENT
BEGIN:VEVENT
DTSTART;TZID=America/New_York:20241209T190000
DTEND;TZID=America/New_York:20241209T210000
DTSTAMP:20260424T001918
CREATED:20240611T172127Z
LAST-MODIFIED:20240917T142615Z
UID:1656-1733770800-1733778000@roanokepinballleague.com
SUMMARY:Belles & Chimes Playoffs
DESCRIPTION:Belles & Chimes Fall League 2024 \nEvery other Monday from September 16 – December 9 \nLeague play starts at 7; doors open for practice at 6. \nSee you at the Pinball Museum downtown!
URL:https://roanokepinballleague.com/event/belles-chimes-fall-league-playoffs/
LOCATION:Roanoke Pinball Museum\, 1 Market Square SE (2nd Floor)\, Roanoke\, VA\, 24011\, United States
CATEGORIES:Belles & Chimes,IFPA,League
ATTACH;FMTTYPE=image/png:https://roanokepinballleague.com/wp-content/uploads/2024/04/Light-Roanoke-VA-1.png
ORGANIZER;CN="Heidi Schmidt":MAILTO:schmidt.heidi@gmail.com
END:VEVENT
BEGIN:VEVENT
DTSTART;TZID=America/New_York:20241202T180000
DTEND;TZID=America/New_York:20241202T210000
DTSTAMP:20260424T001918
CREATED:20240502T214729Z
LAST-MODIFIED:20240827T141541Z
UID:1564-1733162400-1733173200@roanokepinballleague.com
SUMMARY:RPL Fall League - Playoffs
DESCRIPTION:
URL:https://roanokepinballleague.com/event/fall-2024-league-playoffs/
LOCATION:Roanoke Pinball Museum\, 1 Market Square SE (2nd Floor)\, Roanoke\, VA\, 24011\, United States
CATEGORIES:IFPA,League
ORGANIZER;CN="Ben Dudden":MAILTO:roanokepinballleague@gmail.com
END:VEVENT
BEGIN:VEVENT
DTSTART;TZID=America/New_York:20241125T190000
DTEND;TZID=America/New_York:20241125T210000
DTSTAMP:20260424T001918
CREATED:20240611T171523Z
LAST-MODIFIED:20240917T142657Z
UID:1651-1732561200-1732568400@roanokepinballleague.com
SUMMARY:Belles & Chimes League - Week 6
DESCRIPTION:Belles & Chimes Fall League 2024 \nEvery other Monday from September 16 – December 9 \nLeague play starts at 7; doors open for practice at 6. \nSee you at the Pinball Museum downtown!
URL:https://roanokepinballleague.com/event/belles-chimes-fall-league-2024-4/
LOCATION:Roanoke Pinball Museum\, 1 Market Square SE (2nd Floor)\, Roanoke\, VA\, 24011\, United States
CATEGORIES:Belles & Chimes,IFPA,League
ATTACH;FMTTYPE=image/png:https://roanokepinballleague.com/wp-content/uploads/2024/04/Light-Roanoke-VA-1.png
ORGANIZER;CN="Heidi Schmidt":MAILTO:schmidt.heidi@gmail.com
END:VEVENT
BEGIN:VEVENT
DTSTART;TZID=America/New_York:20241118T180000
DTEND;TZID=America/New_York:20241118T210000
DTSTAMP:20260424T001918
CREATED:20240502T214642Z
LAST-MODIFIED:20240827T141556Z
UID:1562-1731952800-1731963600@roanokepinballleague.com
SUMMARY:RPL Fall League - Week 8
DESCRIPTION:
URL:https://roanokepinballleague.com/event/fall-2024-league-week-8/
LOCATION:Roanoke Pinball Museum\, 1 Market Square SE (2nd Floor)\, Roanoke\, VA\, 24011\, United States
CATEGORIES:IFPA,League
ORGANIZER;CN="Ben Dudden":MAILTO:roanokepinballleague@gmail.com
END:VEVENT
BEGIN:VEVENT
DTSTART;TZID=America/New_York:20241117T180000
DTEND;TZID=America/New_York:20241117T220000
DTSTAMP:20260424T001918
CREATED:20240820T143700Z
LAST-MODIFIED:20240820T143700Z
UID:1803-1731866400-1731880800@roanokepinballleague.com
SUMMARY:Monthly Max Match Tournament
DESCRIPTION:
URL:https://roanokepinballleague.com/event/monthly-max-match-tournament-3/
LOCATION:Roanoke Pinball Museum\, 1 Market Square SE (2nd Floor)\, Roanoke\, VA\, 24011\, United States
CATEGORIES:IFPA,Max Match Play,tournament
ATTACH;FMTTYPE=image/png:https://roanokepinballleague.com/wp-content/uploads/2024/01/tourney.png
ORGANIZER;CN="Ben Dudden":MAILTO:roanokepinballleague@gmail.com
END:VEVENT
BEGIN:VEVENT
DTSTART;TZID=America/New_York:20241111T190000
DTEND;TZID=America/New_York:20241111T210000
DTSTAMP:20260424T001918
CREATED:20240611T171348Z
LAST-MODIFIED:20240917T142820Z
UID:1649-1731351600-1731358800@roanokepinballleague.com
SUMMARY:Belles & Chimes League - Week 5
DESCRIPTION:Belles & Chimes Fall League 2024 \nEvery other Monday from September 16 – December 9 \nLeague play starts at 7; doors open for practice at 6. \nSee you at the Pinball Museum downtown!
URL:https://roanokepinballleague.com/event/belles-chimes-fall-league-2024-3/
LOCATION:Roanoke Pinball Museum\, 1 Market Square SE (2nd Floor)\, Roanoke\, VA\, 24011\, United States
CATEGORIES:Belles & Chimes,IFPA,League
ORGANIZER;CN="Heidi Schmidt":MAILTO:schmidt.heidi@gmail.com
END:VEVENT
BEGIN:VEVENT
DTSTART;TZID=America/New_York:20241104T180000
DTEND;TZID=America/New_York:20241104T210000
DTSTAMP:20260424T001918
CREATED:20240502T214544Z
LAST-MODIFIED:20240827T141617Z
UID:1560-1730743200-1730754000@roanokepinballleague.com
SUMMARY:RPL Fall League - Week 7
DESCRIPTION:
URL:https://roanokepinballleague.com/event/fall-2024-league-week-7/
LOCATION:Roanoke Pinball Museum\, 1 Market Square SE (2nd Floor)\, Roanoke\, VA\, 24011\, United States
CATEGORIES:IFPA,League
ORGANIZER;CN="Ben Dudden":MAILTO:roanokepinballleague@gmail.com
END:VEVENT
BEGIN:VEVENT
DTSTART;TZID=America/New_York:20241028T190000
DTEND;TZID=America/New_York:20241028T210000
DTSTAMP:20260424T001918
CREATED:20240611T171240Z
LAST-MODIFIED:20240917T142725Z
UID:1647-1730142000-1730149200@roanokepinballleague.com
SUMMARY:Belles & Chimes League - Week 4
DESCRIPTION:Belles & Chimes Fall League 2024 \nEvery other Monday from September 16 – December 9 \nLeague play starts at 7; doors open for practice at 6. \nSee you at the Pinball Museum downtown!
URL:https://roanokepinballleague.com/event/belles-chimes-fall-league-2024-2/
LOCATION:Roanoke Pinball Museum\, 1 Market Square SE (2nd Floor)\, Roanoke\, VA\, 24011\, United States
CATEGORIES:Belles & Chimes,IFPA,League
ORGANIZER;CN="Heidi Schmidt":MAILTO:schmidt.heidi@gmail.com
END:VEVENT
BEGIN:VEVENT
DTSTART;TZID=America/New_York:20241021T180000
DTEND;TZID=America/New_York:20241021T210000
DTSTAMP:20260424T001918
CREATED:20240502T214448Z
LAST-MODIFIED:20240827T141623Z
UID:1558-1729533600-1729544400@roanokepinballleague.com
SUMMARY:RPL Fall League - Week 6
DESCRIPTION:
URL:https://roanokepinballleague.com/event/fall-2024-league-week-6/
LOCATION:Roanoke Pinball Museum\, 1 Market Square SE (2nd Floor)\, Roanoke\, VA\, 24011\, United States
CATEGORIES:IFPA,League
ORGANIZER;CN="Ben Dudden":MAILTO:roanokepinballleague@gmail.com
END:VEVENT
BEGIN:VEVENT
DTSTART;TZID=America/New_York:20241020T180000
DTEND;TZID=America/New_York:20241020T220000
DTSTAMP:20260424T001918
CREATED:20240820T143331Z
LAST-MODIFIED:20240820T143334Z
UID:1801-1729447200-1729461600@roanokepinballleague.com
SUMMARY:Monthly Max Match Tournament
DESCRIPTION:
URL:https://roanokepinballleague.com/event/monthly-max-match-tournament-2/
LOCATION:Roanoke Pinball Museum\, 1 Market Square SE (2nd Floor)\, Roanoke\, VA\, 24011\, United States
CATEGORIES:IFPA,Max Match Play,tournament
ATTACH;FMTTYPE=image/png:https://roanokepinballleague.com/wp-content/uploads/2024/01/tourney.png
ORGANIZER;CN="Ben Dudden":MAILTO:roanokepinballleague@gmail.com
END:VEVENT
BEGIN:VEVENT
DTSTART;TZID=America/New_York:20241014T190000
DTEND;TZID=America/New_York:20241014T210000
DTSTAMP:20260424T001918
CREATED:20240611T171109Z
LAST-MODIFIED:20240917T142802Z
UID:1645-1728932400-1728939600@roanokepinballleague.com
SUMMARY:Belles & Chimes League - Week 3
DESCRIPTION:Belles & Chimes Fall League 2024 \nEvery other Monday from September 16 – December 9 \nLeague play starts at 7; doors open for practice at 6. \nSee you at the Pinball Museum downtown!
URL:https://roanokepinballleague.com/event/belles-chimes-fall-league-2024/
LOCATION:Roanoke Pinball Museum\, 1 Market Square SE (2nd Floor)\, Roanoke\, VA\, 24011\, United States
CATEGORIES:Belles & Chimes,IFPA,League
ORGANIZER;CN="Heidi Schmidt":MAILTO:schmidt.heidi@gmail.com
END:VEVENT
BEGIN:VEVENT
DTSTART;TZID=America/New_York:20241007T180000
DTEND;TZID=America/New_York:20241007T210000
DTSTAMP:20260424T001918
CREATED:20240502T214407Z
LAST-MODIFIED:20240917T143023Z
UID:1556-1728324000-1728334800@roanokepinballleague.com
SUMMARY:RPL Fall League - Week 5
DESCRIPTION:
URL:https://roanokepinballleague.com/event/fall-2024-league-week-5/
LOCATION:Roanoke Pinball Museum\, 1 Market Square SE (2nd Floor)\, Roanoke\, VA\, 24011\, United States
CATEGORIES:IFPA,League
ORGANIZER;CN="Ben Dudden":MAILTO:roanokepinballleague@gmail.com
END:VEVENT
BEGIN:VEVENT
DTSTART;TZID=America/New_York:20241006T180000
DTEND;TZID=America/New_York:20241006T210000
DTSTAMP:20260424T001918
CREATED:20240611T171020Z
LAST-MODIFIED:20241001T195525Z
UID:1643-1728237600-1728248400@roanokepinballleague.com
SUMMARY:Belles & Chimes League - Week 2: RESCHEDULED
DESCRIPTION:Belles & Chimes Fall League 2024 \nWEEK 2 HAS BEEN RESCHEDULED FOR SUNDAY OCT. 6th!\n-Ben/Heidi
URL:https://roanokepinballleague.com/event/belles-chimes-fall-league-2/
LOCATION:Roanoke Pinball Museum\, 1 Market Square SE (2nd Floor)\, Roanoke\, VA\, 24011\, United States
CATEGORIES:Belles & Chimes,IFPA,League
ORGANIZER;CN="Heidi Schmidt":MAILTO:schmidt.heidi@gmail.com
END:VEVENT
BEGIN:VEVENT
DTSTART;TZID=America/New_York:20240923T180000
DTEND;TZID=America/New_York:20240923T210000
DTSTAMP:20260424T001918
CREATED:20240502T214213Z
LAST-MODIFIED:20240917T143043Z
UID:1553-1727114400-1727125200@roanokepinballleague.com
SUMMARY:RPL Fall League - Week 4
DESCRIPTION:
URL:https://roanokepinballleague.com/event/fall-2024-league-week-4/
LOCATION:Roanoke Pinball Museum\, 1 Market Square SE (2nd Floor)\, Roanoke\, VA\, 24011\, United States
CATEGORIES:IFPA,League
ORGANIZER;CN="Ben Dudden":MAILTO:roanokepinballleague@gmail.com
END:VEVENT
BEGIN:VEVENT
DTSTART;TZID=America/New_York:20240916T190000
DTEND;TZID=America/New_York:20240916T210000
DTSTAMP:20260424T001918
CREATED:20240611T170731Z
LAST-MODIFIED:20240917T142927Z
UID:1641-1726513200-1726520400@roanokepinballleague.com
SUMMARY:Belles & Chimes League - Week 1
DESCRIPTION:Belles & Chimes Fall League 2024 \nEvery other Monday from September 16 – December 9 \nLeague play starts at 7; doors open for practice at 6. \nSee you at the Pinball Museum downtown!
URL:https://roanokepinballleague.com/event/belles-chimes-fall-league/
LOCATION:Roanoke Pinball Museum\, 1 Market Square SE (2nd Floor)\, Roanoke\, VA\, 24011\, United States
CATEGORIES:Belles & Chimes,IFPA,League
ATTACH;FMTTYPE=image/jpeg:https://roanokepinballleague.com/wp-content/uploads/2024/08/Belles-Chimes-Fall-2024.jpg
ORGANIZER;CN="Heidi Schmidt":MAILTO:schmidt.heidi@gmail.com
END:VEVENT
BEGIN:VEVENT
DTSTART;TZID=America/New_York:20240915T180000
DTEND;TZID=America/New_York:20240915T220000
DTSTAMP:20260424T001918
CREATED:20240820T143205Z
LAST-MODIFIED:20240820T143532Z
UID:1799-1726423200-1726437600@roanokepinballleague.com
SUMMARY:Monthly Max Match Tournament
DESCRIPTION:
URL:https://roanokepinballleague.com/event/monthly-max-match-tournament/
LOCATION:Roanoke Pinball Museum\, 1 Market Square SE (2nd Floor)\, Roanoke\, VA\, 24011\, United States
CATEGORIES:IFPA,Max Match Play,tournament
ATTACH;FMTTYPE=image/png:https://roanokepinballleague.com/wp-content/uploads/2024/01/tourney.png
ORGANIZER;CN="Ben Dudden":MAILTO:roanokepinballleague@gmail.com
END:VEVENT
BEGIN:VEVENT
DTSTART;TZID=America/New_York:20240909T180000
DTEND;TZID=America/New_York:20240909T210000
DTSTAMP:20260424T001918
CREATED:20240502T214111Z
LAST-MODIFIED:20240917T143055Z
UID:1551-1725904800-1725915600@roanokepinballleague.com
SUMMARY:RPL Fall League - Week 3
DESCRIPTION:
URL:https://roanokepinballleague.com/event/fall-2024-league-week-3/
LOCATION:Roanoke Pinball Museum\, 1 Market Square SE (2nd Floor)\, Roanoke\, VA\, 24011\, United States
CATEGORIES:IFPA,League
ORGANIZER;CN="Ben Dudden":MAILTO:roanokepinballleague@gmail.com
END:VEVENT
BEGIN:VEVENT
DTSTART;TZID=America/New_York:20240826T180000
DTEND;TZID=America/New_York:20240826T210000
DTSTAMP:20260424T001918
CREATED:20240502T213937Z
LAST-MODIFIED:20240917T143106Z
UID:1549-1724695200-1724706000@roanokepinballleague.com
SUMMARY:RPL Fall League - Week 2
DESCRIPTION:
URL:https://roanokepinballleague.com/event/fall-2024-league-week-2/
LOCATION:Roanoke Pinball Museum\, 1 Market Square SE (2nd Floor)\, Roanoke\, VA\, 24011\, United States
CATEGORIES:IFPA,League
ORGANIZER;CN="Ben Dudden":MAILTO:roanokepinballleague@gmail.com
END:VEVENT
BEGIN:VEVENT
DTSTART;TZID=America/New_York:20240818T180000
DTEND;TZID=America/New_York:20240818T220000
DTSTAMP:20260424T001918
CREATED:20240625T181658Z
LAST-MODIFIED:20240820T143525Z
UID:1695-1724004000-1724018400@roanokepinballleague.com
SUMMARY:August Summer Strikes Knockout Tournament
DESCRIPTION:Our monthly tournament series is switching it up for the summer and doing a pair of Fair Strike Knockout tournaments. \nPlayers will be in groups of 3 or 4\, playing on randomly assigned machines. The top scorer on each game will get zero strikes\, the lowest scorer will get 2 strikes\, and the middle scorer(s) will each get 1 strike. Elimination will occur when a player has reached a pre-determined number of strikes (either 5 or 7 depending on turnout). Play will continue until only 1 player remains.Prize money will be awarded to the top 4 players: 1st – 50%\, 2nd – 25%\, 3rd – 15%\, 4th – 10% \nDoors open at 6pm for practice\, tournament begins at 7pm sharp. \nTournament entry is $20\, plus a $5 museum admission in lieu of coin drop. Cards will not be accepted\, please pay in cash or pre-register via Paypal.
URL:https://roanokepinballleague.com/event/august-summer-strikes-knockout-tournament/
LOCATION:Roanoke Pinball Museum\, 1 Market Square SE (2nd Floor)\, Roanoke\, VA\, 24011\, United States
CATEGORIES:IFPA,knockout,tournament
ATTACH;FMTTYPE=image/jpeg:https://roanokepinballleague.com/wp-content/uploads/2024/06/summer-strikes-knockout-Tournament-2.jpg
ORGANIZER;CN="Ben Dudden":MAILTO:roanokepinballleague@gmail.com
END:VEVENT
BEGIN:VEVENT
DTSTART;TZID=America/New_York:20240812T180000
DTEND;TZID=America/New_York:20240812T210000
DTSTAMP:20260424T001918
CREATED:20240123T171811Z
LAST-MODIFIED:20240917T143121Z
UID:1424-1723485600-1723496400@roanokepinballleague.com
SUMMARY:RPL Fall League - Week 1
DESCRIPTION:
URL:https://roanokepinballleague.com/event/fall-2024-league-week-1/
LOCATION:Roanoke Pinball Museum\, 1 Market Square SE (2nd Floor)\, Roanoke\, VA\, 24011\, United States
CATEGORIES:IFPA,League
ATTACH;FMTTYPE=image/jpeg:https://roanokepinballleague.com/wp-content/uploads/2024/08/Roanoke-2.jpg
ORGANIZER;CN="Ben Dudden":MAILTO:roanokepinballleague@gmail.com
END:VEVENT
BEGIN:VEVENT
DTSTART;TZID=America/New_York:20240721T180000
DTEND;TZID=America/New_York:20240721T220000
DTSTAMP:20260424T001918
CREATED:20240625T181542Z
LAST-MODIFIED:20240717T124812Z
UID:1692-1721584800-1721599200@roanokepinballleague.com
SUMMARY:July Summer Strikes Knockout
DESCRIPTION:Our monthly tournament series is switching it up for the summer and doing a pair of Fair Strike Knockout tournaments. \nPlayers will be in groups of 3 or 4\, playing on randomly assigned machines. The top scorer on each game will get zero strikes\, the lowest scorer will get 2 strikes\, and the middle scorer(s) will each get 1 strike. Elimination will occur when a player has reached a pre-determined number of strikes (either 5 or 7 depending on turnout). Play will continue until only 1 player remains. Prize money will be awarded to the top 4 players: 1st – 50%\, 2nd – 25%\, 3rd – 15%\, 4th – 10% \nDoors open at 6pm for practice\, tournament begins at 7pm sharp. \nTournament entry is $20\, plus a $5 museum admission in lieu of coin drop. Cards will not be accepted\, please pay in cash or pre-register via Paypal. To pre-register\, send entry fee to roanokepinballleague@gmail.com via Paypal (Friends & Family). Please state who is playing and for which event.
URL:https://roanokepinballleague.com/event/july-summer-strikes-knockout/
LOCATION:Roanoke Pinball Museum\, 1 Market Square SE (2nd Floor)\, Roanoke\, VA\, 24011\, United States
CATEGORIES:IFPA,knockout,tournament
ATTACH;FMTTYPE=image/jpeg:https://roanokepinballleague.com/wp-content/uploads/2024/06/summer-strikes-knockout-Tournament-2.jpg
ORGANIZER;CN="Ben Dudden":MAILTO:roanokepinballleague@gmail.com
END:VEVENT
BEGIN:VEVENT
DTSTART;TZID=America/New_York:20240616T180000
DTEND;TZID=America/New_York:20240616T220000
DTSTAMP:20260424T001918
CREATED:20240123T162542Z
LAST-MODIFIED:20240510T125721Z
UID:1402-1718560800-1718575200@roanokepinballleague.com
SUMMARY:Monthly Max Match Play Tournament
DESCRIPTION:Players will compete in 15 head-to-head matches on randomly assigned games\, followed by a 3-game playoff between the top 4 competitors. This will be an IFPA-sanctioned event\, and prize money will be awarded based on attendance. 1st place: 50%\, 2nd place: 25%\, 3rd place: 15%\, 4th place: 10%. \n\nNo extra balls will be played. Any ties for playoff qualification\, or in the playoff itself\, will be resolved with a 1-ball tiebreaker on a machine of the tournament director’s choice (or if the TD is amongst the tied individuals\, a neutral party will be asked to choose the game). \nCost for tournament entry is $20. An additional $5 (waived for RPM VIP Patrons) will be required for admission to the Pinball Museum in lieu of coin drop. Entry fee must be paid in cash on the night of the tournament. Pre-registration can be done by submitting your entry fee to roanokepinballleague@gmail.com via Paypal (Friends & Family). \nPractice play begins at 6:00pm\, with the tournament starting at 7:00pm sharp.
URL:https://roanokepinballleague.com/event/monthly-max-match-play-tournament-12/
LOCATION:Roanoke Pinball Museum\, 1 Market Square SE (2nd Floor)\, Roanoke\, VA\, 24011\, United States
CATEGORIES:IFPA,Max Match Play,tournament
ATTACH;FMTTYPE=image/png:https://roanokepinballleague.com/wp-content/uploads/2024/01/tourney.png
ORGANIZER;CN="Ben Dudden":MAILTO:roanokepinballleague@gmail.com
END:VEVENT
BEGIN:VEVENT
DTSTART;TZID=America/New_York:20240603T180000
DTEND;TZID=America/New_York:20240603T210000
DTSTAMP:20260424T001918
CREATED:20240123T171700Z
LAST-MODIFIED:20240510T125623Z
UID:1422-1717437600-1717448400@roanokepinballleague.com
SUMMARY:Spring 2024 League - Playoffs
DESCRIPTION:
URL:https://roanokepinballleague.com/event/spring-2024-league-playoffs/
LOCATION:Roanoke Pinball Museum\, 1 Market Square SE (2nd Floor)\, Roanoke\, VA\, 24011\, United States
CATEGORIES:IFPA,League
ATTACH;FMTTYPE=image/jpeg:https://roanokepinballleague.com/wp-content/uploads/2023/12/league-chimps-16x9-Spring-2024-nodate.jpg
ORGANIZER;CN="Ben Dudden":MAILTO:roanokepinballleague@gmail.com
END:VEVENT
BEGIN:VEVENT
DTSTART;TZID=America/New_York:20240520T180000
DTEND;TZID=America/New_York:20240520T210000
DTSTAMP:20260424T001918
CREATED:20240123T171318Z
LAST-MODIFIED:20240510T125628Z
UID:1415-1716228000-1716238800@roanokepinballleague.com
SUMMARY:Spring 2024 League - Week 8
DESCRIPTION:
URL:https://roanokepinballleague.com/event/spring-2024-league-week-8/
LOCATION:Roanoke Pinball Museum\, 1 Market Square SE (2nd Floor)\, Roanoke\, VA\, 24011\, United States
CATEGORIES:IFPA,League
ATTACH;FMTTYPE=image/jpeg:https://roanokepinballleague.com/wp-content/uploads/2023/12/league-chimps-16x9-Spring-2024-nodate.jpg
ORGANIZER;CN="Ben Dudden":MAILTO:roanokepinballleague@gmail.com
END:VEVENT
END:VCALENDAR