BEGIN:VCALENDAR
VERSION:2.0
PRODID:-//Roanoke Pinball League - ECPv6.15.20//NONSGML v1.0//EN
CALSCALE:GREGORIAN
METHOD:PUBLISH
X-ORIGINAL-URL:https://roanokepinballleague.com
X-WR-CALDESC:Events for Roanoke Pinball League
REFRESH-INTERVAL;VALUE=DURATION:PT1H
X-Robots-Tag:noindex
X-PUBLISHED-TTL:PT1H
BEGIN:VTIMEZONE
TZID:America/New_York
BEGIN:DAYLIGHT
TZOFFSETFROM:-0500
TZOFFSETTO:-0400
TZNAME:EDT
DTSTART:20230312T070000
END:DAYLIGHT
BEGIN:STANDARD
TZOFFSETFROM:-0400
TZOFFSETTO:-0500
TZNAME:EST
DTSTART:20231105T060000
END:STANDARD
BEGIN:DAYLIGHT
TZOFFSETFROM:-0500
TZOFFSETTO:-0400
TZNAME:EDT
DTSTART:20240310T070000
END:DAYLIGHT
BEGIN:STANDARD
TZOFFSETFROM:-0400
TZOFFSETTO:-0500
TZNAME:EST
DTSTART:20241103T060000
END:STANDARD
BEGIN:DAYLIGHT
TZOFFSETFROM:-0500
TZOFFSETTO:-0400
TZNAME:EDT
DTSTART:20250309T070000
END:DAYLIGHT
BEGIN:STANDARD
TZOFFSETFROM:-0400
TZOFFSETTO:-0500
TZNAME:EST
DTSTART:20251102T060000
END:STANDARD
BEGIN:DAYLIGHT
TZOFFSETFROM:-0500
TZOFFSETTO:-0400
TZNAME:EDT
DTSTART:20260308T070000
END:DAYLIGHT
BEGIN:STANDARD
TZOFFSETFROM:-0400
TZOFFSETTO:-0500
TZNAME:EST
DTSTART:20261101T060000
END:STANDARD
END:VTIMEZONE
BEGIN:VEVENT
DTSTART;TZID=America/New_York:20251130T120000
DTEND;TZID=America/New_York:20251130T170000
DTSTAMP:20260425T092531
CREATED:20251104T012401Z
LAST-MODIFIED:20251105T220752Z
UID:2574-1764504000-1764522000@roanokepinballleague.com
SUMMARY:Belles of Steel @ Golden Cactus Brewing
DESCRIPTION:This is a ladies-only IFPA women’s ranked tournament at Golden Cactus Brewing! \nDoors open at 11am\, registration starts at 12pm\, and tournament starts at 1pm. \nWe will do 3 hours of matchplay qualifying (7/5/3/1 for 4-player groups\, 7/4/1 for 3-player groups). The top 6 to 8 players (depending on turnout) will then compete in an Amazing Race final. \nAll skill levels welcomed. \nOnly $10 to enter\, plus coin drop. \n$1 to IFPA\, $9 to prize pool\, awarded to the top 4 finishers (1st: 50%\, 2nd: 25%\, 3rd: 15%\, 4th: 10%)
URL:https://roanokepinballleague.com/event/belles-of-steel-golden-cactus-brewing/
LOCATION:Golden Cactus Brewing\, 214 5th St SW\, Roanoke\, VA\, 24019\, United States
CATEGORIES:Belles & Chimes,IFPA,tournament
ATTACH;FMTTYPE=image/jpeg:https://roanokepinballleague.com/wp-content/uploads/2025/11/cactus-tournament.jpg
END:VEVENT
BEGIN:VEVENT
DTSTART;TZID=America/New_York:20251117T180000
DTEND;TZID=America/New_York:20251117T210000
DTSTAMP:20260425T092531
CREATED:20250421T235443Z
LAST-MODIFIED:20250421T235443Z
UID:2300-1763402400-1763413200@roanokepinballleague.com
SUMMARY:B&C Fall league - Week 6
DESCRIPTION:
URL:https://roanokepinballleague.com/event/bc-fall-league-week-6/
LOCATION:Roanoke Pinball Museum\, 1 Market Square SE (2nd Floor)\, Roanoke\, VA\, 24011\, United States
CATEGORIES:Belles & Chimes,IFPA,League
END:VEVENT
BEGIN:VEVENT
DTSTART;TZID=America/New_York:20251103T180000
DTEND;TZID=America/New_York:20251103T210000
DTSTAMP:20260425T092531
CREATED:20250421T235358Z
LAST-MODIFIED:20250421T235358Z
UID:2298-1762192800-1762203600@roanokepinballleague.com
SUMMARY:B&C Fall league - Week 5
DESCRIPTION:
URL:https://roanokepinballleague.com/event/bc-fall-league-week-5/
LOCATION:Roanoke Pinball Museum\, 1 Market Square SE (2nd Floor)\, Roanoke\, VA\, 24011\, United States
CATEGORIES:Belles & Chimes,IFPA,League
END:VEVENT
BEGIN:VEVENT
DTSTART;TZID=America/New_York:20251029T180000
DTEND;TZID=America/New_York:20251029T210000
DTSTAMP:20260425T092531
CREATED:20250904T224543Z
LAST-MODIFIED:20250904T224544Z
UID:2531-1761760800-1761771600@roanokepinballleague.com
SUMMARY:Belles of Steel Halloween Tournament @ Big Lick Brewing
DESCRIPTION:The Belles are back in town (Belles are back in town)! \nLadies\, come out to Big Lick Brewing for a decidedly spooky IFPA women’s tournament — Halloween Costumes encouraged! \nThis one will be a Fair Strikes knockout\, with cash prizes for the top 4 players\, and an award for Best Costume! \nArrive by 5:45pm\, tournament starts at 6pm. $10 entry + coin drop. Limit 16 participants. Send inquiries to belles@roanokepinballleague.com
URL:https://roanokepinballleague.com/event/belles-of-steel-halloween-tournament-big-lick-brewing/
LOCATION:Big Lick Brewing Co.\, 409 Salem Ave SW\, ROANOKE\, VA\, 24016\, United States
CATEGORIES:Belles & Chimes,IFPA,tournament
ATTACH;FMTTYPE=image/png:https://roanokepinballleague.com/wp-content/uploads/2025/09/7419839313839460951-1.png
END:VEVENT
BEGIN:VEVENT
DTSTART;TZID=America/New_York:20251020T180000
DTEND;TZID=America/New_York:20251020T210000
DTSTAMP:20260425T092531
CREATED:20250421T235302Z
LAST-MODIFIED:20250421T235302Z
UID:2296-1760983200-1760994000@roanokepinballleague.com
SUMMARY:B&C Fall league - Week 4
DESCRIPTION:
URL:https://roanokepinballleague.com/event/bc-fall-league-week-4/
LOCATION:Roanoke Pinball Museum\, 1 Market Square SE (2nd Floor)\, Roanoke\, VA\, 24011\, United States
CATEGORIES:Belles & Chimes,IFPA,League
END:VEVENT
BEGIN:VEVENT
DTSTART;TZID=America/New_York:20251006T180000
DTEND;TZID=America/New_York:20251006T210000
DTSTAMP:20260425T092531
CREATED:20250421T235203Z
LAST-MODIFIED:20250421T235203Z
UID:2294-1759773600-1759784400@roanokepinballleague.com
SUMMARY:B&C Fall league - Week 3
DESCRIPTION:
URL:https://roanokepinballleague.com/event/bc-fall-league-week-3/
LOCATION:Roanoke Pinball Museum\, 1 Market Square SE (2nd Floor)\, Roanoke\, VA\, 24011\, United States
CATEGORIES:Belles & Chimes,IFPA,League
END:VEVENT
BEGIN:VEVENT
DTSTART;TZID=America/New_York:20250922T180000
DTEND;TZID=America/New_York:20250922T210000
DTSTAMP:20260425T092531
CREATED:20250421T235123Z
LAST-MODIFIED:20250421T235123Z
UID:2292-1758564000-1758574800@roanokepinballleague.com
SUMMARY:B&C Fall league - Week 2
DESCRIPTION:
URL:https://roanokepinballleague.com/event/bc-fall-league-week-2/
LOCATION:Roanoke Pinball Museum\, 1 Market Square SE (2nd Floor)\, Roanoke\, VA\, 24011\, United States
CATEGORIES:Belles & Chimes,IFPA,League
END:VEVENT
BEGIN:VEVENT
DTSTART;TZID=America/New_York:20250908T180000
DTEND;TZID=America/New_York:20250908T210000
DTSTAMP:20260425T092531
CREATED:20250421T235022Z
LAST-MODIFIED:20250421T235022Z
UID:2290-1757354400-1757365200@roanokepinballleague.com
SUMMARY:B&C Fall league - Week 1
DESCRIPTION:
URL:https://roanokepinballleague.com/event/bc-fall-league-week-1/
LOCATION:Roanoke Pinball Museum\, 1 Market Square SE (2nd Floor)\, Roanoke\, VA\, 24011\, United States
CATEGORIES:Belles & Chimes,IFPA,League
END:VEVENT
BEGIN:VEVENT
DTSTART;TZID=America/New_York:20250811T180000
DTEND;TZID=America/New_York:20250811T210000
DTSTAMP:20260425T092531
CREATED:20250421T233810Z
LAST-MODIFIED:20250615T132545Z
UID:2268-1754935200-1754946000@roanokepinballleague.com
SUMMARY:Belles of Steel Summer Series - Week 5
DESCRIPTION:  \nRoanoke’s Belles of Steel concludes their Women’s Summer Series with another standalone tournament. \nFormat details TBA. \n$5 Entry\, cash only. \nPractice starts at 6\, tournament at 7 sharp. \nPrizes for the winners: 1st: 50%\, 2nd: 25%\, 3rd: 15%\, 4th: 10% \nThe Belles summer series runs every other Monday for 5 sessions. Each week is a separate tournament open to all women\, with no pressure to attend every session. Cost is $5 per week you attend. Questions can be directed to bellesandchimesroanoke@gmail.com.
URL:https://roanokepinballleague.com/event/bc-summer-league-playoffs/
LOCATION:Roanoke Pinball Museum\, 1 Market Square SE (2nd Floor)\, Roanoke\, VA\, 24011\, United States
CATEGORIES:Belles & Chimes,tournament
END:VEVENT
BEGIN:VEVENT
DTSTART;TZID=America/New_York:20250728T180000
DTEND;TZID=America/New_York:20250728T210000
DTSTAMP:20260425T092531
CREATED:20250421T233652Z
LAST-MODIFIED:20250615T132422Z
UID:2266-1753725600-1753736400@roanokepinballleague.com
SUMMARY:Belles of Steel Summer Series - Week 4
DESCRIPTION:  \nRoanoke’s Belles of Steel continues their Women’s Summer Series with another tournament. \nFormat details TBA. \n$5 Entry\, cash only. \nPractice starts at 6\, tournament at 7 sharp. \nPrizes for the winners: 1st: 50%\, 2nd: 25%\, 3rd: 15%\, 4th: 10% \nThe Belles summer series runs every other Monday for 5 sessions. Each week is a separate tournament open to all women\, with no pressure to attend every session. Cost is $5 per week you attend. Questions can be directed to bellesandchimesroanoke@gmail.com.
URL:https://roanokepinballleague.com/event/bc-summer-league-week-4/
LOCATION:Roanoke Pinball Museum\, 1 Market Square SE (2nd Floor)\, Roanoke\, VA\, 24011\, United States
CATEGORIES:Belles & Chimes,tournament
END:VEVENT
BEGIN:VEVENT
DTSTART;TZID=America/New_York:20250714T180000
DTEND;TZID=America/New_York:20250714T210000
DTSTAMP:20260425T092531
CREATED:20250421T233536Z
LAST-MODIFIED:20250615T132130Z
UID:2264-1752516000-1752526800@roanokepinballleague.com
SUMMARY:Belles of Steel Summer Series - Week 3
DESCRIPTION:  \nRoanoke’s Belles of Steel continues their Women’s Summer Series with an IFPA Max Match tournament. 10 rounds of head-to-head play\, followed by a 3-game final for the top 4 players. \n$5 Entry\, cash only. \nPractice starts at 6\, tournament at 7 sharp. \nPrizes for the winners: 1st: 50%\, 2nd: 25%\, 3rd: 15%\, 4th: 10% \nThe Belles summer series runs every other Monday for 5 sessions. Each week is a separate tournament open to all women\, with no pressure to attend every session. Cost is $5 per week you attend. Questions can be directed to bellesandchimesroanoke@gmail.com.
URL:https://roanokepinballleague.com/event/bc-summer-league-week-3/
LOCATION:Roanoke Pinball Museum\, 1 Market Square SE (2nd Floor)\, Roanoke\, VA\, 24011\, United States
CATEGORIES:Belles & Chimes,tournament
END:VEVENT
BEGIN:VEVENT
DTSTART;TZID=America/New_York:20250630T180000
DTEND;TZID=America/New_York:20250630T210000
DTSTAMP:20260425T092531
CREATED:20250421T233359Z
LAST-MODIFIED:20250615T132204Z
UID:2262-1751306400-1751317200@roanokepinballleague.com
SUMMARY:Belles of Steel Summer Series - Week 2
DESCRIPTION:  \nRoanoke’s Belles of Steel continues their Women’s Summer Series with an IFPA Fair Strikes Knockout tournament. \n$5 Entry\, cash only. \nPractice starts at 6\, tournament at 7 sharp. \nPrizes for the winners: 1st: 50%\, 2nd: 25%\, 3rd: 15%\, 4th: 10% \nThe Belles summer series runs every other Monday for 5 sessions. Each week is a separate tournament open to all women\, with no pressure to attend every session. Cost is $5 per week you attend. Questions can be directed to bellesandchimesroanoke@gmail.com.
URL:https://roanokepinballleague.com/event/bc-summer-series-week-2/
LOCATION:Roanoke Pinball Museum\, 1 Market Square SE (2nd Floor)\, Roanoke\, VA\, 24011\, United States
CATEGORIES:Belles & Chimes,tournament
END:VEVENT
BEGIN:VEVENT
DTSTART;TZID=America/New_York:20250616T180000
DTEND;TZID=America/New_York:20250616T210000
DTSTAMP:20260425T092531
CREATED:20250421T233210Z
LAST-MODIFIED:20250615T132229Z
UID:2260-1750096800-1750107600@roanokepinballleague.com
SUMMARY:Belles of Steel Summer Series - Week 1
DESCRIPTION:  \nRoanoke’s Belles of Steel is starting their Women’s Summer Series with a casual tournament. \n$5 Entry\, cash only. \nPractice starts at 6\, tournament at 7 sharp. \nPrizes for the winners: 1st: 50%\, 2nd: 25%\, 3rd: 15%\, 4th: 10% \nThe Belles summer series runs every other Monday for 5 sessions. Each week is a separate tournament open to all women\, with no pressure to attend every session. Cost is $5 per week you attend. Questions can be directed to bellesandchimesroanoke@gmail.com.
URL:https://roanokepinballleague.com/event/bc-summer-series-week-1/
LOCATION:Roanoke Pinball Museum\, 1 Market Square SE (2nd Floor)\, Roanoke\, VA\, 24011\, United States
CATEGORIES:Belles & Chimes,tournament
END:VEVENT
BEGIN:VEVENT
DTSTART;TZID=America/New_York:20250602T180000
DTEND;TZID=America/New_York:20250602T210000
DTSTAMP:20260425T092531
CREATED:20250529T001647Z
LAST-MODIFIED:20250529T001647Z
UID:2366-1748887200-1748898000@roanokepinballleague.com
SUMMARY:Ladies Social @ Golden Cactus Brewing
DESCRIPTION:Come out for a pre-season pinball social for the ladies of Belles & Chimes Roanoke! \nHeld from 6-9pm at Golden Cactus—no charge to attend\, but food\, drinks\, and pinball games can be purchased. Get to know your fellow pinballers and learn about the upcoming summer tournament series!
URL:https://roanokepinballleague.com/event/ladies-social-golden-cactus-brewing/
LOCATION:Golden Cactus Brewing\, 214 5th St SW\, Roanoke\, VA\, 24019\, United States
CATEGORIES:Belles & Chimes
END:VEVENT
BEGIN:VEVENT
DTSTART;TZID=America/New_York:20250519T180000
DTEND;TZID=America/New_York:20250519T210000
DTSTAMP:20260425T092531
CREATED:20241112T152847Z
LAST-MODIFIED:20241112T152847Z
UID:1968-1747677600-1747688400@roanokepinballleague.com
SUMMARY:Belles & Chimes Spring League - Playoff
DESCRIPTION:
URL:https://roanokepinballleague.com/event/belles-chimes-spring-league-playoff/
LOCATION:Roanoke Pinball Museum\, 1 Market Square SE (2nd Floor)\, Roanoke\, VA\, 24011\, United States
CATEGORIES:Belles & Chimes,IFPA,League
ORGANIZER;CN="Heidi Schmidt":MAILTO:schmidt.heidi@gmail.com
END:VEVENT
BEGIN:VEVENT
DTSTART;TZID=America/New_York:20250505T180000
DTEND;TZID=America/New_York:20250505T210000
DTSTAMP:20260425T092531
CREATED:20241112T152749Z
LAST-MODIFIED:20241112T152749Z
UID:1966-1746468000-1746478800@roanokepinballleague.com
SUMMARY:Belles & Chimes Spring League - Week 6
DESCRIPTION:
URL:https://roanokepinballleague.com/event/belles-chimes-spring-league-week-6/
LOCATION:Roanoke Pinball Museum\, 1 Market Square SE (2nd Floor)\, Roanoke\, VA\, 24011\, United States
CATEGORIES:Belles & Chimes,IFPA,League
ORGANIZER;CN="Heidi Schmidt":MAILTO:schmidt.heidi@gmail.com
END:VEVENT
BEGIN:VEVENT
DTSTART;TZID=America/New_York:20250421T080000
DTEND;TZID=America/New_York:20250421T170000
DTSTAMP:20260425T092531
CREATED:20241112T152655Z
LAST-MODIFIED:20241112T152655Z
UID:1964-1745222400-1745254800@roanokepinballleague.com
SUMMARY:Belles & Chimes Spring League - Week 5
DESCRIPTION:
URL:https://roanokepinballleague.com/event/belles-chimes-spring-league-week-5/
LOCATION:Roanoke Pinball Museum\, 1 Market Square SE (2nd Floor)\, Roanoke\, VA\, 24011\, United States
CATEGORIES:Belles & Chimes,IFPA,League
ORGANIZER;CN="Heidi Schmidt":MAILTO:schmidt.heidi@gmail.com
END:VEVENT
BEGIN:VEVENT
DTSTART;TZID=America/New_York:20250407T180000
DTEND;TZID=America/New_York:20250407T210000
DTSTAMP:20260425T092531
CREATED:20241112T152604Z
LAST-MODIFIED:20241112T152604Z
UID:1962-1744048800-1744059600@roanokepinballleague.com
SUMMARY:Belles & Chimes Spring League - Week 4
DESCRIPTION:
URL:https://roanokepinballleague.com/event/belles-chimes-spring-league-week-4/
LOCATION:Roanoke Pinball Museum\, 1 Market Square SE (2nd Floor)\, Roanoke\, VA\, 24011\, United States
CATEGORIES:Belles & Chimes,IFPA,League
ORGANIZER;CN="Heidi Schmidt":MAILTO:schmidt.heidi@gmail.com
END:VEVENT
BEGIN:VEVENT
DTSTART;TZID=America/New_York:20250324T180000
DTEND;TZID=America/New_York:20250324T210000
DTSTAMP:20260425T092531
CREATED:20241112T152509Z
LAST-MODIFIED:20241112T152509Z
UID:1960-1742839200-1742850000@roanokepinballleague.com
SUMMARY:Belles & Chimes Spring League - Week 3
DESCRIPTION:
URL:https://roanokepinballleague.com/event/belles-chimes-spring-league-week-3/
LOCATION:Roanoke Pinball Museum\, 1 Market Square SE (2nd Floor)\, Roanoke\, VA\, 24011\, United States
CATEGORIES:Belles & Chimes,IFPA,League
ORGANIZER;CN="Heidi Schmidt":MAILTO:schmidt.heidi@gmail.com
END:VEVENT
BEGIN:VEVENT
DTSTART;TZID=America/New_York:20250310T180000
DTEND;TZID=America/New_York:20250310T210000
DTSTAMP:20260425T092531
CREATED:20241112T152419Z
LAST-MODIFIED:20241112T152419Z
UID:1958-1741629600-1741640400@roanokepinballleague.com
SUMMARY:Belles & Chimes Spring League - Week 2
DESCRIPTION:
URL:https://roanokepinballleague.com/event/belles-chimes-spring-league-week-2/
LOCATION:Roanoke Pinball Museum\, 1 Market Square SE (2nd Floor)\, Roanoke\, VA\, 24011\, United States
CATEGORIES:Belles & Chimes,IFPA,League
ORGANIZER;CN="Heidi Schmidt":MAILTO:schmidt.heidi@gmail.com
END:VEVENT
BEGIN:VEVENT
DTSTART;TZID=America/New_York:20250224T180000
DTEND;TZID=America/New_York:20250224T210000
DTSTAMP:20260425T092531
CREATED:20241112T152159Z
LAST-MODIFIED:20241112T152200Z
UID:1956-1740420000-1740430800@roanokepinballleague.com
SUMMARY:Belles & Chimes Spring League - Week 1
DESCRIPTION:
URL:https://roanokepinballleague.com/event/belles-chimes-spring-league-week-1/
LOCATION:Roanoke Pinball Museum\, 1 Market Square SE (2nd Floor)\, Roanoke\, VA\, 24011\, United States
CATEGORIES:Belles & Chimes,IFPA,League
ORGANIZER;CN="Heidi Schmidt":MAILTO:schmidt.heidi@gmail.com
END:VEVENT
BEGIN:VEVENT
DTSTART;TZID=America/New_York:20250119T180000
DTEND;TZID=America/New_York:20250119T220000
DTSTAMP:20260425T092531
CREATED:20241112T160631Z
LAST-MODIFIED:20241224T013628Z
UID:1971-1737309600-1737324000@roanokepinballleague.com
SUMMARY:Belles & Chimes Winter Tournament
DESCRIPTION:Ladies\, join us in January for a special Belles & Chimes tournament! \nOpen to ALL women\, we will be having a 15-round Max Match tournament\, with practice starting at 6pm\, and the tournament at 7pm. Finals will be 3 games for the top 4 competitors. Cash prizes\, and IFPA points awarded. Don’t miss it! \nEntry is $20 (+$5 museum entry fee\, waived for members)
URL:https://roanokepinballleague.com/event/belles-chimes-winter-tournament/
LOCATION:Roanoke Pinball Museum\, 1 Market Square SE (2nd Floor)\, Roanoke\, VA\, 24011\, United States
CATEGORIES:Belles & Chimes,IFPA,Max Match Play,tournament
ATTACH;FMTTYPE=image/jpeg:https://roanokepinballleague.com/wp-content/uploads/2024/11/Copy-of-Belles-Chimes-Fall-2024-1920-x-1080-px.jpg
ORGANIZER;CN="Heidi Schmidt":MAILTO:schmidt.heidi@gmail.com
END:VEVENT
BEGIN:VEVENT
DTSTART;TZID=America/New_York:20241209T190000
DTEND;TZID=America/New_York:20241209T210000
DTSTAMP:20260425T092531
CREATED:20240611T172127Z
LAST-MODIFIED:20240917T142615Z
UID:1656-1733770800-1733778000@roanokepinballleague.com
SUMMARY:Belles & Chimes Playoffs
DESCRIPTION:Belles & Chimes Fall League 2024 \nEvery other Monday from September 16 – December 9 \nLeague play starts at 7; doors open for practice at 6. \nSee you at the Pinball Museum downtown!
URL:https://roanokepinballleague.com/event/belles-chimes-fall-league-playoffs/
LOCATION:Roanoke Pinball Museum\, 1 Market Square SE (2nd Floor)\, Roanoke\, VA\, 24011\, United States
CATEGORIES:Belles & Chimes,IFPA,League
ATTACH;FMTTYPE=image/png:https://roanokepinballleague.com/wp-content/uploads/2024/04/Light-Roanoke-VA-1.png
ORGANIZER;CN="Heidi Schmidt":MAILTO:schmidt.heidi@gmail.com
END:VEVENT
BEGIN:VEVENT
DTSTART;TZID=America/New_York:20241125T190000
DTEND;TZID=America/New_York:20241125T210000
DTSTAMP:20260425T092531
CREATED:20240611T171523Z
LAST-MODIFIED:20240917T142657Z
UID:1651-1732561200-1732568400@roanokepinballleague.com
SUMMARY:Belles & Chimes League - Week 6
DESCRIPTION:Belles & Chimes Fall League 2024 \nEvery other Monday from September 16 – December 9 \nLeague play starts at 7; doors open for practice at 6. \nSee you at the Pinball Museum downtown!
URL:https://roanokepinballleague.com/event/belles-chimes-fall-league-2024-4/
LOCATION:Roanoke Pinball Museum\, 1 Market Square SE (2nd Floor)\, Roanoke\, VA\, 24011\, United States
CATEGORIES:Belles & Chimes,IFPA,League
ATTACH;FMTTYPE=image/png:https://roanokepinballleague.com/wp-content/uploads/2024/04/Light-Roanoke-VA-1.png
ORGANIZER;CN="Heidi Schmidt":MAILTO:schmidt.heidi@gmail.com
END:VEVENT
BEGIN:VEVENT
DTSTART;TZID=America/New_York:20241111T190000
DTEND;TZID=America/New_York:20241111T210000
DTSTAMP:20260425T092531
CREATED:20240611T171348Z
LAST-MODIFIED:20240917T142820Z
UID:1649-1731351600-1731358800@roanokepinballleague.com
SUMMARY:Belles & Chimes League - Week 5
DESCRIPTION:Belles & Chimes Fall League 2024 \nEvery other Monday from September 16 – December 9 \nLeague play starts at 7; doors open for practice at 6. \nSee you at the Pinball Museum downtown!
URL:https://roanokepinballleague.com/event/belles-chimes-fall-league-2024-3/
LOCATION:Roanoke Pinball Museum\, 1 Market Square SE (2nd Floor)\, Roanoke\, VA\, 24011\, United States
CATEGORIES:Belles & Chimes,IFPA,League
ORGANIZER;CN="Heidi Schmidt":MAILTO:schmidt.heidi@gmail.com
END:VEVENT
BEGIN:VEVENT
DTSTART;TZID=America/New_York:20241028T190000
DTEND;TZID=America/New_York:20241028T210000
DTSTAMP:20260425T092531
CREATED:20240611T171240Z
LAST-MODIFIED:20240917T142725Z
UID:1647-1730142000-1730149200@roanokepinballleague.com
SUMMARY:Belles & Chimes League - Week 4
DESCRIPTION:Belles & Chimes Fall League 2024 \nEvery other Monday from September 16 – December 9 \nLeague play starts at 7; doors open for practice at 6. \nSee you at the Pinball Museum downtown!
URL:https://roanokepinballleague.com/event/belles-chimes-fall-league-2024-2/
LOCATION:Roanoke Pinball Museum\, 1 Market Square SE (2nd Floor)\, Roanoke\, VA\, 24011\, United States
CATEGORIES:Belles & Chimes,IFPA,League
ORGANIZER;CN="Heidi Schmidt":MAILTO:schmidt.heidi@gmail.com
END:VEVENT
BEGIN:VEVENT
DTSTART;TZID=America/New_York:20241014T190000
DTEND;TZID=America/New_York:20241014T210000
DTSTAMP:20260425T092531
CREATED:20240611T171109Z
LAST-MODIFIED:20240917T142802Z
UID:1645-1728932400-1728939600@roanokepinballleague.com
SUMMARY:Belles & Chimes League - Week 3
DESCRIPTION:Belles & Chimes Fall League 2024 \nEvery other Monday from September 16 – December 9 \nLeague play starts at 7; doors open for practice at 6. \nSee you at the Pinball Museum downtown!
URL:https://roanokepinballleague.com/event/belles-chimes-fall-league-2024/
LOCATION:Roanoke Pinball Museum\, 1 Market Square SE (2nd Floor)\, Roanoke\, VA\, 24011\, United States
CATEGORIES:Belles & Chimes,IFPA,League
ORGANIZER;CN="Heidi Schmidt":MAILTO:schmidt.heidi@gmail.com
END:VEVENT
BEGIN:VEVENT
DTSTART;TZID=America/New_York:20241006T180000
DTEND;TZID=America/New_York:20241006T210000
DTSTAMP:20260425T092531
CREATED:20240611T171020Z
LAST-MODIFIED:20241001T195525Z
UID:1643-1728237600-1728248400@roanokepinballleague.com
SUMMARY:Belles & Chimes League - Week 2: RESCHEDULED
DESCRIPTION:Belles & Chimes Fall League 2024 \nWEEK 2 HAS BEEN RESCHEDULED FOR SUNDAY OCT. 6th!\n-Ben/Heidi
URL:https://roanokepinballleague.com/event/belles-chimes-fall-league-2/
LOCATION:Roanoke Pinball Museum\, 1 Market Square SE (2nd Floor)\, Roanoke\, VA\, 24011\, United States
CATEGORIES:Belles & Chimes,IFPA,League
ORGANIZER;CN="Heidi Schmidt":MAILTO:schmidt.heidi@gmail.com
END:VEVENT
BEGIN:VEVENT
DTSTART;TZID=America/New_York:20240916T190000
DTEND;TZID=America/New_York:20240916T210000
DTSTAMP:20260425T092531
CREATED:20240611T170731Z
LAST-MODIFIED:20240917T142927Z
UID:1641-1726513200-1726520400@roanokepinballleague.com
SUMMARY:Belles & Chimes League - Week 1
DESCRIPTION:Belles & Chimes Fall League 2024 \nEvery other Monday from September 16 – December 9 \nLeague play starts at 7; doors open for practice at 6. \nSee you at the Pinball Museum downtown!
URL:https://roanokepinballleague.com/event/belles-chimes-fall-league/
LOCATION:Roanoke Pinball Museum\, 1 Market Square SE (2nd Floor)\, Roanoke\, VA\, 24011\, United States
CATEGORIES:Belles & Chimes,IFPA,League
ATTACH;FMTTYPE=image/jpeg:https://roanokepinballleague.com/wp-content/uploads/2024/08/Belles-Chimes-Fall-2024.jpg
ORGANIZER;CN="Heidi Schmidt":MAILTO:schmidt.heidi@gmail.com
END:VEVENT
BEGIN:VEVENT
DTSTART;TZID=America/New_York:20240805T190000
DTEND;TZID=America/New_York:20240805T210000
DTSTAMP:20260425T092531
CREATED:20240429T193745Z
LAST-MODIFIED:20240521T123241Z
UID:1538-1722884400-1722891600@roanokepinballleague.com
SUMMARY:Belles & Chimes Summer League - Week 5
DESCRIPTION:Belles & Chimes Summer League 2024 \n\nJune 10\nJune 24\nJuly 8\nJuly 22\nAugust 5
URL:https://roanokepinballleague.com/event/belles-chimes-summer-league-5/
LOCATION:Roanoke Pinball Museum\, 1 Market Square SE (2nd Floor)\, Roanoke\, VA\, 24011\, United States
CATEGORIES:Belles & Chimes,League
ORGANIZER;CN="Heidi Schmidt":MAILTO:schmidt.heidi@gmail.com
END:VEVENT
END:VCALENDAR