BEGIN:VCALENDAR
VERSION:2.0
PRODID:-//Roanoke Pinball League - ECPv6.15.20//NONSGML v1.0//EN
CALSCALE:GREGORIAN
METHOD:PUBLISH
X-WR-CALNAME:Roanoke Pinball League
X-ORIGINAL-URL:https://roanokepinballleague.com
X-WR-CALDESC:Events for Roanoke Pinball League
REFRESH-INTERVAL;VALUE=DURATION:PT1H
X-Robots-Tag:noindex
X-PUBLISHED-TTL:PT1H
BEGIN:VTIMEZONE
TZID:America/New_York
BEGIN:DAYLIGHT
TZOFFSETFROM:-0500
TZOFFSETTO:-0400
TZNAME:EDT
DTSTART:20190310T070000
END:DAYLIGHT
BEGIN:STANDARD
TZOFFSETFROM:-0400
TZOFFSETTO:-0500
TZNAME:EST
DTSTART:20191103T060000
END:STANDARD
BEGIN:DAYLIGHT
TZOFFSETFROM:-0500
TZOFFSETTO:-0400
TZNAME:EDT
DTSTART:20200308T070000
END:DAYLIGHT
BEGIN:STANDARD
TZOFFSETFROM:-0400
TZOFFSETTO:-0500
TZNAME:EST
DTSTART:20201101T060000
END:STANDARD
BEGIN:DAYLIGHT
TZOFFSETFROM:-0500
TZOFFSETTO:-0400
TZNAME:EDT
DTSTART:20210314T070000
END:DAYLIGHT
BEGIN:STANDARD
TZOFFSETFROM:-0400
TZOFFSETTO:-0500
TZNAME:EST
DTSTART:20211107T060000
END:STANDARD
BEGIN:DAYLIGHT
TZOFFSETFROM:-0500
TZOFFSETTO:-0400
TZNAME:EDT
DTSTART:20220313T070000
END:DAYLIGHT
BEGIN:STANDARD
TZOFFSETFROM:-0400
TZOFFSETTO:-0500
TZNAME:EST
DTSTART:20221106T060000
END:STANDARD
BEGIN:DAYLIGHT
TZOFFSETFROM:-0500
TZOFFSETTO:-0400
TZNAME:EDT
DTSTART:20230312T070000
END:DAYLIGHT
BEGIN:STANDARD
TZOFFSETFROM:-0400
TZOFFSETTO:-0500
TZNAME:EST
DTSTART:20231105T060000
END:STANDARD
END:VTIMEZONE
BEGIN:VEVENT
DTSTART;TZID=America/New_York:20221205T183000
DTEND;TZID=America/New_York:20221205T213000
DTSTAMP:20260424T095053
CREATED:20221013T145538Z
LAST-MODIFIED:20221122T201611Z
UID:811-1670265000-1670275800@roanokepinballleague.com
SUMMARY:Fall 2022 League - Week 8
DESCRIPTION:
URL:https://roanokepinballleague.com/event/fall-2022-league-week-8/
LOCATION:Roanoke Pinball Museum\, 1 Market Square SE (2nd Floor)\, Roanoke\, VA\, 24011\, United States
CATEGORIES:IFPA,League
ATTACH;FMTTYPE=image/jpeg:https://roanokepinballleague.com/wp-content/uploads/2022/07/RPLFALL2022.jpg
ORGANIZER;CN="Ben Dudden":MAILTO:roanokepinballleague@gmail.com
END:VEVENT
BEGIN:VEVENT
DTSTART;TZID=America/New_York:20221121T183000
DTEND;TZID=America/New_York:20221121T213000
DTSTAMP:20260424T095053
CREATED:20221013T145443Z
LAST-MODIFIED:20221013T145443Z
UID:809-1669055400-1669066200@roanokepinballleague.com
SUMMARY:Fall 2022 League - Week 7
DESCRIPTION:
URL:https://roanokepinballleague.com/event/fall-2022-league-week-7/
LOCATION:Roanoke Pinball Museum\, 1 Market Square SE (2nd Floor)\, Roanoke\, VA\, 24011\, United States
CATEGORIES:IFPA,League
ATTACH;FMTTYPE=image/jpeg:https://roanokepinballleague.com/wp-content/uploads/2022/07/RPLFALL2022.jpg
ORGANIZER;CN="Ben Dudden":MAILTO:roanokepinballleague@gmail.com
END:VEVENT
BEGIN:VEVENT
DTSTART;TZID=America/New_York:20221107T183000
DTEND;TZID=America/New_York:20221107T213000
DTSTAMP:20260424T095053
CREATED:20221013T145321Z
LAST-MODIFIED:20221026T150157Z
UID:806-1667845800-1667856600@roanokepinballleague.com
SUMMARY:Fall 2022 League - Week 6
DESCRIPTION:
URL:https://roanokepinballleague.com/event/fall-2022-league-week-6/
LOCATION:Roanoke Pinball Museum\, 1 Market Square SE (2nd Floor)\, Roanoke\, VA\, 24011\, United States
CATEGORIES:IFPA,League
ATTACH;FMTTYPE=image/jpeg:https://roanokepinballleague.com/wp-content/uploads/2022/07/RPLFALL2022.jpg
ORGANIZER;CN="Ben Dudden":MAILTO:roanokepinballleague@gmail.com
END:VEVENT
BEGIN:VEVENT
DTSTART;TZID=America/New_York:20221024T183000
DTEND;TZID=America/New_York:20221024T213000
DTSTAMP:20260424T095053
CREATED:20220914T194251Z
LAST-MODIFIED:20221013T145336Z
UID:786-1666636200-1666647000@roanokepinballleague.com
SUMMARY:Fall 2022 League - Week 5
DESCRIPTION:
URL:https://roanokepinballleague.com/event/fall-league-week-5-2/
LOCATION:Roanoke Pinball Museum\, 1 Market Square SE (2nd Floor)\, Roanoke\, VA\, 24011\, United States
CATEGORIES:IFPA,League
ATTACH;FMTTYPE=image/jpeg:https://roanokepinballleague.com/wp-content/uploads/2022/07/RPLFALL2022.jpg
ORGANIZER;CN="Ben Dudden":MAILTO:roanokepinballleague@gmail.com
END:VEVENT
BEGIN:VEVENT
DTSTART;TZID=America/New_York:20221010T183000
DTEND;TZID=America/New_York:20221010T213000
DTSTAMP:20260424T095053
CREATED:20220827T202920Z
LAST-MODIFIED:20220906T213907Z
UID:747-1665426600-1665437400@roanokepinballleague.com
SUMMARY:Fall 2022 League - Week 4
DESCRIPTION:
URL:https://roanokepinballleague.com/event/fall-2022-league-week-4/
LOCATION:Roanoke Pinball Museum\, 1 Market Square SE (2nd Floor)\, Roanoke\, VA\, 24011\, United States
CATEGORIES:IFPA,League
ATTACH;FMTTYPE=image/jpeg:https://roanokepinballleague.com/wp-content/uploads/2022/07/RPLFALL2022.jpg
ORGANIZER;CN="Ben Dudden":MAILTO:roanokepinballleague@gmail.com
END:VEVENT
BEGIN:VEVENT
DTSTART;TZID=America/New_York:20220926T183000
DTEND;TZID=America/New_York:20220926T213000
DTSTAMP:20260424T095053
CREATED:20220823T211323Z
LAST-MODIFIED:20220906T214001Z
UID:745-1664217000-1664227800@roanokepinballleague.com
SUMMARY:Fall 2022 League - Week 3
DESCRIPTION:
URL:https://roanokepinballleague.com/event/fall-2022-league-week-3/
LOCATION:Roanoke Pinball Museum\, 1 Market Square SE (2nd Floor)\, Roanoke\, VA\, 24011\, United States
CATEGORIES:IFPA,League
ATTACH;FMTTYPE=image/jpeg:https://roanokepinballleague.com/wp-content/uploads/2022/07/RPLFALL2022.jpg
ORGANIZER;CN="Ben Dudden":MAILTO:roanokepinballleague@gmail.com
END:VEVENT
BEGIN:VEVENT
DTSTART;TZID=America/New_York:20220912T183000
DTEND;TZID=America/New_York:20220912T213000
DTSTAMP:20260424T095053
CREATED:20220811T165130Z
LAST-MODIFIED:20220906T213936Z
UID:728-1663007400-1663018200@roanokepinballleague.com
SUMMARY:Fall 2022 League - Week 2
DESCRIPTION:
URL:https://roanokepinballleague.com/event/fall-2022-league-week-2/
LOCATION:Roanoke Pinball Museum\, 1 Market Square SE (2nd Floor)\, Roanoke\, VA\, 24011\, United States
CATEGORIES:IFPA,League
ATTACH;FMTTYPE=image/jpeg:https://roanokepinballleague.com/wp-content/uploads/2022/07/RPLFALL2022.jpg
ORGANIZER;CN="Ben Dudden":MAILTO:roanokepinballleague@gmail.com
END:VEVENT
BEGIN:VEVENT
DTSTART;TZID=America/New_York:20220829T183000
DTEND;TZID=America/New_York:20220829T213000
DTSTAMP:20260424T095053
CREATED:20220525T173118Z
LAST-MODIFIED:20220717T160917Z
UID:642-1661797800-1661808600@roanokepinballleague.com
SUMMARY:Fall 2022 League - Week 1
DESCRIPTION:Fall League is approaching! \nAs before\, we will meet every other week through December at the Roanoke Pinball Museum\, with playoffs held on Dec 19 (subject to change). Doors open for practice play at 6:30pm\, with league play beginning at 7:00pm. Players will compete in groups of 4\, on 8 machines per night. League format is Best Game\, with each player’s lowest 2 nights dropped. The top 4 players in each division go to the Finals\, which will be 4 games of Match Play\, to determine final standings. There will be a pizza party and consolation knockout tournament for anyone not in the finals. \n\n\nTo join the league\, $25 in dues will be required\, as well as $5 for Pinball Museum entry each night (waived for current Museum VIP Patrons) in lieu of coin drop. \nLimited to 32 participants. To secure your spot in advance\, send $25 via Paypal (using “Friends & Family” option to avoid extra fees) to roanokepinballleague@gmail.com. \nPlease see rules and FAQ for more information. \n\n\nSchedule is as follows:\nWeek 1 – August 29\nWeek 2 – September 12\nWeek 3 – September 26\nWeek 4 – October 10\nWeek 5 – October 24\nWeek 6 – November 7\nWeek 7 – November 21\nWeek 8 – December 5\nPlayoffs – December 19 (potentially Dec. 12th if preferred by group) \n\n[paypal amount=”25″ scan=”no”]
URL:https://roanokepinballleague.com/event/fall-league-week-1/
LOCATION:Roanoke Pinball Museum\, 1 Market Square SE (2nd Floor)\, Roanoke\, VA\, 24011\, United States
CATEGORIES:IFPA,League
ATTACH;FMTTYPE=image/jpeg:https://roanokepinballleague.com/wp-content/uploads/2022/07/RPLFALL2022.jpg
ORGANIZER;CN="Ben Dudden":MAILTO:roanokepinballleague@gmail.com
END:VEVENT
BEGIN:VEVENT
DTSTART;TZID=America/New_York:20220718T190000
DTEND;TZID=America/New_York:20220718T210000
DTSTAMP:20260424T095053
CREATED:20220512T172644Z
LAST-MODIFIED:20220621T174515Z
UID:584-1658170800-1658178000@roanokepinballleague.com
SUMMARY:Spring League - Playoffs
DESCRIPTION:
URL:https://roanokepinballleague.com/event/spring-league-playoffs/
LOCATION:Roanoke Pinball Museum\, 1 Market Square SE (2nd Floor)\, Roanoke\, VA\, 24011\, United States
CATEGORIES:IFPA,League
ATTACH;FMTTYPE=image/jpeg:https://roanokepinballleague.com/wp-content/uploads/2022/04/RPL2022-3.jpg
ORGANIZER;CN="Ben Dudden":MAILTO:roanokepinballleague@gmail.com
END:VEVENT
BEGIN:VEVENT
DTSTART;TZID=America/New_York:20220711T190000
DTEND;TZID=America/New_York:20220711T210000
DTSTAMP:20260424T095053
CREATED:20220512T172550Z
LAST-MODIFIED:20220621T174410Z
UID:582-1657566000-1657573200@roanokepinballleague.com
SUMMARY:Spring League - Week 8
DESCRIPTION:
URL:https://roanokepinballleague.com/event/spring-league-week-8/
LOCATION:Roanoke Pinball Museum\, 1 Market Square SE (2nd Floor)\, Roanoke\, VA\, 24011\, United States
CATEGORIES:IFPA,League
ATTACH;FMTTYPE=image/jpeg:https://roanokepinballleague.com/wp-content/uploads/2022/04/RPL2022-3.jpg
ORGANIZER;CN="Ben Dudden":MAILTO:roanokepinballleague@gmail.com
END:VEVENT
BEGIN:VEVENT
DTSTART;TZID=America/New_York:20220627T190000
DTEND;TZID=America/New_York:20220627T210000
DTSTAMP:20260424T095053
CREATED:20220512T172417Z
LAST-MODIFIED:20220608T181939Z
UID:580-1656356400-1656363600@roanokepinballleague.com
SUMMARY:Spring League - Week 7
DESCRIPTION:
URL:https://roanokepinballleague.com/event/spring-league-week-7/
LOCATION:Roanoke Pinball Museum\, 1 Market Square SE (2nd Floor)\, Roanoke\, VA\, 24011\, United States
CATEGORIES:IFPA,League
ATTACH;FMTTYPE=image/jpeg:https://roanokepinballleague.com/wp-content/uploads/2022/04/RPL2022-3.jpg
ORGANIZER;CN="Ben Dudden":MAILTO:roanokepinballleague@gmail.com
END:VEVENT
BEGIN:VEVENT
DTSTART;TZID=America/New_York:20220613T190000
DTEND;TZID=America/New_York:20220613T210000
DTSTAMP:20260424T095053
CREATED:20220512T172231Z
LAST-MODIFIED:20220524T172155Z
UID:578-1655146800-1655154000@roanokepinballleague.com
SUMMARY:Spring League - Week 6
DESCRIPTION:
URL:https://roanokepinballleague.com/event/spring-league-week-6/
LOCATION:Roanoke Pinball Museum\, 1 Market Square SE (2nd Floor)\, Roanoke\, VA\, 24011\, United States
CATEGORIES:IFPA,League
ATTACH;FMTTYPE=image/jpeg:https://roanokepinballleague.com/wp-content/uploads/2022/04/RPL2022-3.jpg
ORGANIZER;CN="Ben Dudden":MAILTO:roanokepinballleague@gmail.com
END:VEVENT
BEGIN:VEVENT
DTSTART;TZID=America/New_York:20220606T190000
DTEND;TZID=America/New_York:20220606T210000
DTSTAMP:20260424T095053
CREATED:20220512T172037Z
LAST-MODIFIED:20220526T155004Z
UID:576-1654542000-1654549200@roanokepinballleague.com
SUMMARY:Spring League - Week 5
DESCRIPTION:
URL:https://roanokepinballleague.com/event/spring-league-week-5/
LOCATION:Roanoke Pinball Museum\, 1 Market Square SE (2nd Floor)\, Roanoke\, VA\, 24011\, United States
CATEGORIES:IFPA,League
ATTACH;FMTTYPE=image/jpeg:https://roanokepinballleague.com/wp-content/uploads/2022/04/RPL2022-3.jpg
ORGANIZER;CN="Ben Dudden":MAILTO:roanokepinballleague@gmail.com
END:VEVENT
BEGIN:VEVENT
DTSTART;TZID=America/New_York:20220523T190000
DTEND;TZID=America/New_York:20220523T210000
DTSTAMP:20260424T095053
CREATED:20220427T174353Z
LAST-MODIFIED:20220524T171916Z
UID:560-1653332400-1653339600@roanokepinballleague.com
SUMMARY:Spring League - Week 4
DESCRIPTION:
URL:https://roanokepinballleague.com/event/spring-league-week-4/
LOCATION:Roanoke Pinball Museum\, 1 Market Square SE (2nd Floor)\, Roanoke\, VA\, 24011\, United States
CATEGORIES:IFPA,League
ATTACH;FMTTYPE=image/jpeg:https://roanokepinballleague.com/wp-content/uploads/2022/04/RPL2022-3.jpg
ORGANIZER;CN="Ben Dudden":MAILTO:roanokepinballleague@gmail.com
END:VEVENT
BEGIN:VEVENT
DTSTART;TZID=America/New_York:20220509T190000
DTEND;TZID=America/New_York:20220509T210000
DTSTAMP:20260424T095053
CREATED:20220421T173444Z
LAST-MODIFIED:20220427T174607Z
UID:538-1652122800-1652130000@roanokepinballleague.com
SUMMARY:Spring League - Week 3
DESCRIPTION:
URL:https://roanokepinballleague.com/event/spring-league-week-3/
LOCATION:Roanoke Pinball Museum\, 1 Market Square SE (2nd Floor)\, Roanoke\, VA\, 24011\, United States
CATEGORIES:IFPA,League
ATTACH;FMTTYPE=image/jpeg:https://roanokepinballleague.com/wp-content/uploads/2022/04/RPL2022-3.jpg
ORGANIZER;CN="Ben Dudden":MAILTO:roanokepinballleague@gmail.com
END:VEVENT
BEGIN:VEVENT
DTSTART;TZID=America/New_York:20220425T190000
DTEND;TZID=America/New_York:20220425T210000
DTSTAMP:20260424T095053
CREATED:20220421T171548Z
LAST-MODIFIED:20220427T174726Z
UID:533-1650913200-1650920400@roanokepinballleague.com
SUMMARY:Spring League - Week 2
DESCRIPTION:Did you miss our first session? Not to worry\, there’s still time to join! Your lowest 2 nights are dropped\, so missing a week or two won’t count against you.
URL:https://roanokepinballleague.com/event/spring-league-week-2/
LOCATION:Roanoke Pinball Museum\, 1 Market Square SE (2nd Floor)\, Roanoke\, VA\, 24011\, United States
CATEGORIES:IFPA,League
ATTACH;FMTTYPE=image/jpeg:https://roanokepinballleague.com/wp-content/uploads/2022/04/RPL2022-3.jpg
ORGANIZER;CN="Ben Dudden":MAILTO:roanokepinballleague@gmail.com
END:VEVENT
BEGIN:VEVENT
DTSTART;TZID=America/New_York:20220411T190000
DTEND;TZID=America/New_York:20220411T210000
DTSTAMP:20260424T095053
CREATED:20220218T163123Z
LAST-MODIFIED:20220421T173143Z
UID:466-1649703600-1649710800@roanokepinballleague.com
SUMMARY:Pinball League - Spring 2022 Season
DESCRIPTION:Spring League begins Monday\, April 11th\, and meets every other week (with some exceptions as noted below) through July at the Roanoke Pinball Museum\, with playoffs held on July 18th. Doors open for practice play at 6:30pm\, with league play beginning at 7:00pm. Players will compete in groups of 4\, on 8 machines per night. League format is Best Game\, with each player’s lowest 2 nights dropped. The top 4 players in each division go to the Finals\, which will be 4 games of Match Play\, to determine final standings. There will be a pizza party and consolation knockout tournament for anyone not in the finals. \n\n\nTo join the league\, $25 will be required\, as well as $5 for Pinball Museum entry each night (waived for current Museum VIP Patrons) in lieu of coin drop. \nLimited to 32 participants. To secure your spot in advance\, send $25 via Venmo\, Zelle\, CashApp\, or Paypal (using “Friends & Family” option to avoid extra fees) to roanokepinballleague@gmail.com\, or email us to make other arrangements if necessary. \nPlease see rules and FAQ for more information. \n\n\nSchedule is as follows:\nWeek 1 – April 11\nWeek 2 – April 25\nWeek 3 – May 9\nWeek 4 – May 23\nWeek 5 – June 6\nWeek 6 – June 13\nWeek 7 – June 27\nWeek 8 – July 11\nPlayoffs – July 18 \n\n[paypal amount=”25″ scan=”no”] [venmo amount=”25″ scan=”no”] [cashapp amount=”25″ scan=”no”]
URL:https://roanokepinballleague.com/event/pinball-league-spring-2022-season/
LOCATION:Roanoke Pinball Museum\, 1 Market Square SE (2nd Floor)\, Roanoke\, VA\, 24011\, United States
CATEGORIES:IFPA,League
ATTACH;FMTTYPE=image/jpeg:https://roanokepinballleague.com/wp-content/uploads/2022/02/RPL2022.jpg
ORGANIZER;CN="Ben Dudden":MAILTO:roanokepinballleague@gmail.com
END:VEVENT
BEGIN:VEVENT
DTSTART;TZID=America/New_York:20220110T183000
DTEND;TZID=America/New_York:20220110T210000
DTSTAMP:20260424T095053
CREATED:20210915T030731Z
LAST-MODIFIED:20220330T191614Z
UID:344-1641839400-1641848400@roanokepinballleague.com
SUMMARY:Fall 2021 League - Playoffs
DESCRIPTION:The playoffs for both Division A and Division B will be held simultaneously\, with the top 4 players in each division competing for prize money. The A Division playoffs will determine the final ranking for the season.  For league members not in the playoffs\, a knockout tournament will be held\, with prizes awarded.
URL:https://roanokepinballleague.com/event/fall-2021-league-finals/
LOCATION:Roanoke Pinball Museum\, 1 Market Square SE (2nd Floor)\, Roanoke\, VA\, 24011\, United States
CATEGORIES:IFPA,League
ATTACH;FMTTYPE=image/jpeg:https://roanokepinballleague.com/wp-content/uploads/2021/06/RPL2021.jpg
ORGANIZER;CN="Ben Dudden":MAILTO:roanokepinballleague@gmail.com
END:VEVENT
BEGIN:VEVENT
DTSTART;TZID=America/New_York:20211220T183000
DTEND;TZID=America/New_York:20211220T210000
DTSTAMP:20260424T095053
CREATED:20210915T030614Z
LAST-MODIFIED:20211222T192045Z
UID:342-1640025000-1640034000@roanokepinballleague.com
SUMMARY:Fall League - Week 8
DESCRIPTION:
URL:https://roanokepinballleague.com/event/fall-league-week-8/
LOCATION:Roanoke Pinball Museum\, 1 Market Square SE (2nd Floor)\, Roanoke\, VA\, 24011\, United States
CATEGORIES:IFPA,League
ATTACH;FMTTYPE=image/jpeg:https://roanokepinballleague.com/wp-content/uploads/2021/06/RPL2021.jpg
ORGANIZER;CN="Ben Dudden":MAILTO:roanokepinballleague@gmail.com
END:VEVENT
BEGIN:VEVENT
DTSTART;TZID=America/New_York:20211206T183000
DTEND;TZID=America/New_York:20211206T210000
DTSTAMP:20260424T095053
CREATED:20210915T030423Z
LAST-MODIFIED:20211222T192007Z
UID:340-1638815400-1638824400@roanokepinballleague.com
SUMMARY:Fall League - Week 7
DESCRIPTION:
URL:https://roanokepinballleague.com/event/fall-league-week-7/
LOCATION:Roanoke Pinball Museum\, 1 Market Square SE (2nd Floor)\, Roanoke\, VA\, 24011\, United States
CATEGORIES:IFPA,League
ATTACH;FMTTYPE=image/jpeg:https://roanokepinballleague.com/wp-content/uploads/2021/06/RPL2021.jpg
ORGANIZER;CN="Ben Dudden":MAILTO:roanokepinballleague@gmail.com
END:VEVENT
BEGIN:VEVENT
DTSTART;TZID=America/New_York:20211122T183000
DTEND;TZID=America/New_York:20211122T210000
DTSTAMP:20260424T095053
CREATED:20210915T030252Z
LAST-MODIFIED:20211127T203619Z
UID:338-1637605800-1637614800@roanokepinballleague.com
SUMMARY:Fall League - Week 6
DESCRIPTION:
URL:https://roanokepinballleague.com/event/fall-league-week-6/
LOCATION:Roanoke Pinball Museum\, 1 Market Square SE (2nd Floor)\, Roanoke\, VA\, 24011\, United States
CATEGORIES:IFPA,League
ATTACH;FMTTYPE=image/jpeg:https://roanokepinballleague.com/wp-content/uploads/2021/06/RPL2021.jpg
ORGANIZER;CN="Ben Dudden":MAILTO:roanokepinballleague@gmail.com
END:VEVENT
BEGIN:VEVENT
DTSTART;TZID=America/New_York:20211108T183000
DTEND;TZID=America/New_York:20211108T210000
DTSTAMP:20260424T095053
CREATED:20210915T030147Z
LAST-MODIFIED:20211127T203730Z
UID:336-1636396200-1636405200@roanokepinballleague.com
SUMMARY:Fall League - Week 5
DESCRIPTION:
URL:https://roanokepinballleague.com/event/fall-league-week-5/
LOCATION:Roanoke Pinball Museum\, 1 Market Square SE (2nd Floor)\, Roanoke\, VA\, 24011\, United States
CATEGORIES:IFPA,League
ATTACH;FMTTYPE=image/jpeg:https://roanokepinballleague.com/wp-content/uploads/2021/06/RPL2021.jpg
ORGANIZER;CN="Ben Dudden":MAILTO:roanokepinballleague@gmail.com
END:VEVENT
BEGIN:VEVENT
DTSTART;TZID=America/New_York:20211025T183000
DTEND;TZID=America/New_York:20211025T210000
DTSTAMP:20260424T095053
CREATED:20210915T025923Z
LAST-MODIFIED:20211127T203710Z
UID:334-1635186600-1635195600@roanokepinballleague.com
SUMMARY:Fall League - Week 4
DESCRIPTION:
URL:https://roanokepinballleague.com/event/fall-league-week-4/
LOCATION:Roanoke Pinball Museum\, 1 Market Square SE (2nd Floor)\, Roanoke\, VA\, 24011\, United States
CATEGORIES:IFPA,League
ATTACH;FMTTYPE=image/jpeg:https://roanokepinballleague.com/wp-content/uploads/2021/06/RPL2021.jpg
ORGANIZER;CN="Ben Dudden":MAILTO:roanokepinballleague@gmail.com
END:VEVENT
BEGIN:VEVENT
DTSTART;TZID=America/New_York:20211011T183000
DTEND;TZID=America/New_York:20211011T210000
DTSTAMP:20260424T095053
CREATED:20210915T025742Z
LAST-MODIFIED:20211013T150850Z
UID:332-1633977000-1633986000@roanokepinballleague.com
SUMMARY:Fall League - Week 3
DESCRIPTION:
URL:https://roanokepinballleague.com/event/fall-league-week-3/
LOCATION:Roanoke Pinball Museum\, 1 Market Square SE (2nd Floor)\, Roanoke\, VA\, 24011\, United States
CATEGORIES:IFPA,League
ATTACH;FMTTYPE=image/jpeg:https://roanokepinballleague.com/wp-content/uploads/2021/06/RPL2021.jpg
ORGANIZER;CN="Ben Dudden":MAILTO:roanokepinballleague@gmail.com
END:VEVENT
BEGIN:VEVENT
DTSTART;TZID=America/New_York:20210927T190000
DTEND;TZID=America/New_York:20210927T210000
DTSTAMP:20260424T095053
CREATED:20210906T134534Z
LAST-MODIFIED:20210928T173451Z
UID:320-1632769200-1632776400@roanokepinballleague.com
SUMMARY:Fall League - Week 2
DESCRIPTION:Didn’t make it to our first meet? That’s ok! There’s still time to join up\, and your lowest scores are dropped\, so missing a week doesn’t hurt you.
URL:https://roanokepinballleague.com/event/fall-league-week-2/
LOCATION:Roanoke Pinball Museum\, 1 Market Square SE (2nd Floor)\, Roanoke\, VA\, 24011\, United States
CATEGORIES:IFPA,League
ATTACH;FMTTYPE=image/jpeg:https://roanokepinballleague.com/wp-content/uploads/2021/06/RPL2021.jpg
ORGANIZER;CN="Ben Dudden":MAILTO:roanokepinballleague@gmail.com
END:VEVENT
BEGIN:VEVENT
DTSTART;TZID=America/New_York:20210913T190000
DTEND;TZID=America/New_York:20210913T210000
DTSTAMP:20260424T095053
CREATED:20210610T161710Z
LAST-MODIFIED:20210928T173433Z
UID:254-1631559600-1631566800@roanokepinballleague.com
SUMMARY:Pinball League - Fall 2021 Season - Week 1
DESCRIPTION:Pinball League begins Monday\, September 13th\, and meets every other week through December at the Roanoke Pinball Museum\, with playoffs in January. Doors open for practice play at 6:30pm\, with league play beginning at 7:00pm. Players will compete in groups of 4\, on 8 machines per night. \nTo join the league\, $25 will be required\, as well as $5 for Pinball Museum entry each night (waived for current Museum VIP Patrons) in lieu of coin drop. \nLimited to 32 participants. To secure your spot in advance\, send $25 via Zelle\, CashApp\, Venmo\, or Paypal (using “Friends & Family” option to avoid extra fees) to roanokepinballleague@gmail.com\, or email us to make other arrangements if necessary. \nPlease see rules and FAQ for further information. \n  \n(Astronaut artwork by Albright Illustration.)
URL:https://roanokepinballleague.com/event/pinball-league-fall-2021-season-week-1/
LOCATION:Roanoke Pinball Museum\, 1 Market Square SE (2nd Floor)\, Roanoke\, VA\, 24011\, United States
CATEGORIES:IFPA,League
ATTACH;FMTTYPE=image/jpeg:https://roanokepinballleague.com/wp-content/uploads/2021/06/RPL2021.jpg
ORGANIZER;CN="Ben Dudden":MAILTO:roanokepinballleague@gmail.com
END:VEVENT
BEGIN:VEVENT
DTSTART;TZID=America/New_York:20200302T190000
DTEND;TZID=America/New_York:20200302T210000
DTSTAMP:20260424T095053
CREATED:20200128T163657Z
LAST-MODIFIED:20210609T225753Z
UID:146-1583175600-1583182800@roanokepinballleague.com
SUMMARY:Pinball League - Spring 2020 Season - Week 1
DESCRIPTION:Pinball League begins Monday\, March 2nd\, and meets every other week at 7pm at the Roanoke Pinball Museum. A half-hour of practice will begin at 6:30pm. \nTo join the league\, $25 will be required\, as well as $5 for Pinball Museum entry each night (waived for current Museum Supporters). \nLimited to 24 participants. To secure your spot\, send $25 via Paypal (using “Friends & Family” option) to roanokepinballleague@gmail.com\, or email us to make other arrangements in necessary. \nPlease see rules and FAQ for further information.
URL:https://roanokepinballleague.com/event/pinball-league-spring-2020-season-week-1/
LOCATION:Roanoke Pinball Museum\, 1 Market Square SE (2nd Floor)\, Roanoke\, VA\, 24011\, United States
CATEGORIES:IFPA,League
ATTACH;FMTTYPE=image/jpeg:https://roanokepinballleague.com/wp-content/uploads/2020/03/2b8753f0-4387-43ef-8edf-f1f6655ccfff.jpg
ORGANIZER;CN="Ben Dudden":MAILTO:roanokepinballleague@gmail.com
END:VEVENT
END:VCALENDAR