BEGIN:VCALENDAR
VERSION:2.0
PRODID:-//Roanoke Pinball League - ECPv6.15.20//NONSGML v1.0//EN
CALSCALE:GREGORIAN
METHOD:PUBLISH
X-ORIGINAL-URL:https://roanokepinballleague.com
X-WR-CALDESC:Events for Roanoke Pinball League
REFRESH-INTERVAL;VALUE=DURATION:PT1H
X-Robots-Tag:noindex
X-PUBLISHED-TTL:PT1H
BEGIN:VTIMEZONE
TZID:America/New_York
BEGIN:DAYLIGHT
TZOFFSETFROM:-0500
TZOFFSETTO:-0400
TZNAME:EDT
DTSTART:20220313T070000
END:DAYLIGHT
BEGIN:STANDARD
TZOFFSETFROM:-0400
TZOFFSETTO:-0500
TZNAME:EST
DTSTART:20221106T060000
END:STANDARD
BEGIN:DAYLIGHT
TZOFFSETFROM:-0500
TZOFFSETTO:-0400
TZNAME:EDT
DTSTART:20230312T070000
END:DAYLIGHT
BEGIN:STANDARD
TZOFFSETFROM:-0400
TZOFFSETTO:-0500
TZNAME:EST
DTSTART:20231105T060000
END:STANDARD
BEGIN:DAYLIGHT
TZOFFSETFROM:-0500
TZOFFSETTO:-0400
TZNAME:EDT
DTSTART:20240310T070000
END:DAYLIGHT
BEGIN:STANDARD
TZOFFSETFROM:-0400
TZOFFSETTO:-0500
TZNAME:EST
DTSTART:20241103T060000
END:STANDARD
END:VTIMEZONE
BEGIN:VEVENT
DTSTART;TZID=America/New_York:20230820T180000
DTEND;TZID=America/New_York:20230820T220000
DTSTAMP:20260423T190619
CREATED:20230608T182033Z
LAST-MODIFIED:20230608T182327Z
UID:1127-1692554400-1692568800@roanokepinballleague.com
SUMMARY:Monthly Max Match Play Tournament
DESCRIPTION:Players will compete in 20 head-to-head matches on randomly assigned games\, followed by a 1-game playoff between the top 4 competitors. This will be an IFPA-sanctioned event\, and prize money will be awarded based on attendance. 1st place: 50%\, 2nd place: 30%\, 3rd place: 20%. \nNo extra balls will be allowed to be played.  Any ties for playoff qualification\, or in the playoff itself\, will be resolved with a 1-ball tiebreaker round on a machine of the tournament director’s choice (or if the TD is amongst the tied individuals\, a neutral party will be asked to choose the game). \nCost for entry is $15 ($10 for RPM VIP Patrons). $1 from each participant will go to IFPA sanctioning\, $9 goes to the prize pot\, and $5 (waived for RPM VIP Patrons) counts as admission to the Pinball Museum in lieu of coin drop. Entry fee must be paid in cash on the night of the tournament. Pre-registration can be done by submitting your entry fee to roanokepinballleague@gmail.com via Paypal (Friends & Family). \nPractice play begins at 6:00pm\, with the tournament starting at 7:00pm sharp.
URL:https://roanokepinballleague.com/event/monthly-max-match-play-tournament-3/
LOCATION:Roanoke Pinball Museum\, 1 Market Square SE (2nd Floor)\, Roanoke\, VA\, 24011\, United States
CATEGORIES:IFPA,Max Match Play,tournament
ATTACH;FMTTYPE=image/png:https://roanokepinballleague.com/wp-content/uploads/2023/05/Purple-Blue-Modern-geometrical-AI-Art-Instagram-Post-5.png
ORGANIZER;CN="Ben Dudden":MAILTO:roanokepinballleague@gmail.com
END:VEVENT
BEGIN:VEVENT
DTSTART;TZID=America/New_York:20230716T180000
DTEND;TZID=America/New_York:20230716T220000
DTSTAMP:20260423T190619
CREATED:20230608T181907Z
LAST-MODIFIED:20230608T182237Z
UID:1125-1689530400-1689544800@roanokepinballleague.com
SUMMARY:Monthly Max Match Play Tournament
DESCRIPTION:Players will compete in 20 head-to-head matches on randomly assigned games\, followed by a 1-game playoff between the top 4 competitors. This will be an IFPA-sanctioned event\, and prize money will be awarded based on attendance. 1st place: 50%\, 2nd place: 30%\, 3rd place: 20%. \nNo extra balls will be allowed to be played.  Any ties for playoff qualification\, or in the playoff itself\, will be resolved with a 1-ball tiebreaker round on a machine of the tournament director’s choice (or if the TD is amongst the tied individuals\, a neutral party will be asked to choose the game). \nCost for entry is $15 ($10 for RPM VIP Patrons). $1 from each participant will go to IFPA sanctioning\, $9 goes to the prize pot\, and $5 (waived for RPM VIP Patrons) counts as admission to the Pinball Museum in lieu of coin drop. Entry fee must be paid in cash on the night of the tournament. Pre-registration can be done by submitting your entry fee to roanokepinballleague@gmail.com via Paypal (Friends & Family). \nPractice play begins at 6:00pm\, with the tournament starting at 7:00pm sharp.
URL:https://roanokepinballleague.com/event/monthly-max-match-play-tournament-2/
LOCATION:Roanoke Pinball Museum\, 1 Market Square SE (2nd Floor)\, Roanoke\, VA\, 24011\, United States
CATEGORIES:IFPA,Max Match Play,tournament
ATTACH;FMTTYPE=image/png:https://roanokepinballleague.com/wp-content/uploads/2023/05/Purple-Blue-Modern-geometrical-AI-Art-Instagram-Post-5.png
ORGANIZER;CN="Ben Dudden":MAILTO:roanokepinballleague@gmail.com
END:VEVENT
BEGIN:VEVENT
DTSTART;TZID=America/New_York:20230618T180000
DTEND;TZID=America/New_York:20230618T220000
DTSTAMP:20260423T190619
CREATED:20230512T201535Z
LAST-MODIFIED:20230512T201536Z
UID:1075-1687111200-1687125600@roanokepinballleague.com
SUMMARY:Monthly Max Match Play Tournament
DESCRIPTION:Starting in June\, we’ll be having a Max Match Play tournament on the third Sunday of every month! \nPlayers will compete in 20 head-to-head matches on randomly assigned games\, followed by a 1-game playoff between the top 4 competitors. This will be an IFPA-sanctioned event\, and prize money will be awarded based on attendance. 1st place: 50%\, 2nd place: 30%\, 3rd place: 20%. \nNo extra balls will be allowed to be played.  Any ties for playoff qualification\, or in the playoff itself\, will be resolved with a 1-ball tiebreaker round on a machine of the tournament director’s choice (or if the TD is amongst the tied individuals\, a neutral party will be asked to choose the game). \nCost for entry is $15 ($10 for RPM VIP Patrons). $1 from each participant will go to IFPA sanctioning\, $9 goes to the prize pot\, and $5 (waived for RPM VIP Patrons) counts as admission to the Pinball Museum in lieu of coin drop. Entry fee must be paid in cash on the night of the tournament. Pre-registration can be done by submitting your entry fee to roanokepinballleague@gmail.com via Paypal (Friends & Family). \nPractice play begins at 6:00pm\, with the tournament starting at 7:00pm sharp.
URL:https://roanokepinballleague.com/event/monthly-max-match-play-tournament/
LOCATION:Roanoke Pinball Museum\, 1 Market Square SE (2nd Floor)\, Roanoke\, VA\, 24011\, United States
CATEGORIES:IFPA,Max Match Play,tournament
ATTACH;FMTTYPE=image/png:https://roanokepinballleague.com/wp-content/uploads/2023/05/Purple-Blue-Modern-geometrical-AI-Art-Instagram-Post-4.png
ORGANIZER;CN="Ben Dudden":MAILTO:roanokepinballleague@gmail.com
END:VEVENT
END:VCALENDAR