BEGIN:VCALENDAR
VERSION:2.0
PRODID:-//Roanoke Pinball League - ECPv6.15.20//NONSGML v1.0//EN
CALSCALE:GREGORIAN
METHOD:PUBLISH
X-ORIGINAL-URL:https://roanokepinballleague.com
X-WR-CALDESC:Events for Roanoke Pinball League
REFRESH-INTERVAL;VALUE=DURATION:PT1H
X-Robots-Tag:noindex
X-PUBLISHED-TTL:PT1H
BEGIN:VTIMEZONE
TZID:America/New_York
BEGIN:DAYLIGHT
TZOFFSETFROM:-0500
TZOFFSETTO:-0400
TZNAME:EDT
DTSTART:20180311T070000
END:DAYLIGHT
BEGIN:STANDARD
TZOFFSETFROM:-0400
TZOFFSETTO:-0500
TZNAME:EST
DTSTART:20181104T060000
END:STANDARD
BEGIN:DAYLIGHT
TZOFFSETFROM:-0500
TZOFFSETTO:-0400
TZNAME:EDT
DTSTART:20190310T070000
END:DAYLIGHT
BEGIN:STANDARD
TZOFFSETFROM:-0400
TZOFFSETTO:-0500
TZNAME:EST
DTSTART:20191103T060000
END:STANDARD
BEGIN:DAYLIGHT
TZOFFSETFROM:-0500
TZOFFSETTO:-0400
TZNAME:EDT
DTSTART:20200308T070000
END:DAYLIGHT
BEGIN:STANDARD
TZOFFSETFROM:-0400
TZOFFSETTO:-0500
TZNAME:EST
DTSTART:20201101T060000
END:STANDARD
BEGIN:DAYLIGHT
TZOFFSETFROM:-0500
TZOFFSETTO:-0400
TZNAME:EDT
DTSTART:20210314T070000
END:DAYLIGHT
BEGIN:STANDARD
TZOFFSETFROM:-0400
TZOFFSETTO:-0500
TZNAME:EST
DTSTART:20211107T060000
END:STANDARD
BEGIN:DAYLIGHT
TZOFFSETFROM:-0500
TZOFFSETTO:-0400
TZNAME:EDT
DTSTART:20220313T070000
END:DAYLIGHT
BEGIN:STANDARD
TZOFFSETFROM:-0400
TZOFFSETTO:-0500
TZNAME:EST
DTSTART:20221106T060000
END:STANDARD
BEGIN:DAYLIGHT
TZOFFSETFROM:-0500
TZOFFSETTO:-0400
TZNAME:EDT
DTSTART:20230312T070000
END:DAYLIGHT
BEGIN:STANDARD
TZOFFSETFROM:-0400
TZOFFSETTO:-0500
TZNAME:EST
DTSTART:20231105T060000
END:STANDARD
END:VTIMEZONE
BEGIN:VEVENT
DTSTART;TZID=America/New_York:20220130T183000
DTEND;TZID=America/New_York:20220130T203000
DTSTAMP:20260424T014836
CREATED:20211222T191908Z
LAST-MODIFIED:20220330T191637Z
UID:431-1643567400-1643574600@roanokepinballleague.com
SUMMARY:Pinball & Chill Tournament
DESCRIPTION:Its a new year\, so scrape the remains of 2021 off of your shoes and start things out right with some pinball! \nThis is planned to be a group match play tournament\, though format is subject to change based on attendance. \nTournament will consist of 8 rounds. All players will play in all rounds in groups of 3 or 4 on randomly selected machines. Players will receive points each round depending on where they finish. (7 points for 1st place\, 5 points for 2nd\, 3 points for 3rd\, and 1 point for 4th. Groups of 3 scoring will be 7/4/1.) The player with the most points after 8 rounds will win. Tiebreaks will be decided on a single final game chosen at random\, with cash prizes awarded. \nTo register in advance\, please send your entry fee to roanokepinballleague@gmail.com\, via Paypal\, Zelle\, CashApp or Venmo. (Be sure to select “Friends and Family” if using Paypal\, and please identify the tournament you are registering for and who will be participating.) If paying in person on the day\, cash or one the above payment methods will be required. We cannot process credit cards for this tournament. \nCost is $15 to enter\, or $10 for current VIP supporters of the Roanoke Pinball Museum.\nDoors open for practice play at 6:00 PM. Masks may be required based on CDC and building guidelines.
URL:https://roanokepinballleague.com/event/pinball-chill-tournament/
LOCATION:Roanoke Pinball Museum\, 1 Market Square SE (2nd Floor)\, Roanoke\, VA\, 24011\, United States
CATEGORIES:IFPA,tournament
ATTACH;FMTTYPE=image/jpeg:https://roanokepinballleague.com/wp-content/uploads/2021/12/pinnchill.jpg
ORGANIZER;CN="Ben Dudden":MAILTO:roanokepinballleague@gmail.com
END:VEVENT
BEGIN:VEVENT
DTSTART;TZID=America/New_York:20210822T180000
DTEND;TZID=America/New_York:20210822T200000
DTSTAMP:20260424T014836
CREATED:20210614T131723Z
LAST-MODIFIED:20210823T185910Z
UID:262-1629655200-1629662400@roanokepinballleague.com
SUMMARY:August "Death by Pinball" IFPA Tournament
DESCRIPTION:Summer is ending\, but we’re just getting started! The IFPA has begun sanctioning events for point rankings\, so let’s make this one count! \nThis tournament will consist of 8 rounds. All players will play in all rounds in groups of 3 or 4 on randomly selected machines. Players will receive points each round depending on where they finish. (7 points for 1st place\, 5 points for 2nd\, 3 points for 3rd\, and 1 point for 4th. Groups of 3 scoring will be 7/4/1.) The player with the most points after 8 rounds will win. Tiebreaks will be decided on a single final game chosen at random\, with cash prizes awarded. \nTo register in advance\, please send your entry fee to roanokepinballleague@gmail.com\, via Paypal\, Zelle\, CashApp or Venmo. (Be sure to select “Friends and Family” if using Paypal.) If paying in person on the day\, CASH or one the above payment methods will be required. We cannot process credit cards for this tournament. \nCost is $15 to enter\, or $10 for current VIP supporters of the Roanoke Pinball Museum.\nDoors open for practice play at 5:45 PM. Masks will not be required for vaccinated individuals. See you then! \n  \n(Skeleton artwork by Albright Illustration.)
URL:https://roanokepinballleague.com/event/august-tournament/
LOCATION:Roanoke Pinball Museum\, 1 Market Square SE (2nd Floor)\, Roanoke\, VA\, 24011\, United States
CATEGORIES:IFPA,tournament
ATTACH;FMTTYPE=image/jpeg:https://roanokepinballleague.com/wp-content/uploads/2021/06/DBP.jpg
ORGANIZER;CN="Ben Dudden":MAILTO:roanokepinballleague@gmail.com
END:VEVENT
BEGIN:VEVENT
DTSTART;TZID=America/New_York:20210725T180000
DTEND;TZID=America/New_York:20210725T200000
DTSTAMP:20260424T014836
CREATED:20210614T131636Z
LAST-MODIFIED:20210726T225541Z
UID:260-1627236000-1627243200@roanokepinballleague.com
SUMMARY:"Hot as (Pin)balls" July Tournament
DESCRIPTION:We expect July to be hot\, but the competition to be hotter! Come out for our second of 3 summer tournaments and beat the heat.\n\nThis tournament will be unofficial\, as IFPA is not sanctioning events until August\, but there will be cash prizes for the winners.\n\n\nTo register in advance\, please send your entry fee to roanokepinballleague@gmail.com\, via Paypal\, Zelle\, CashApp or Venmo. (Be sure to select “Friends and Family” if using Paypal.)\nIf paying in person on the day\, cash or one the above payment methods will be required. We cannot process credit cards for this tournament.\n\nCost is $15 to enter\, or $10 for current VIP patrons of the Roanoke Pinball Museum.\nDoors open for practice play at 5:45 PM. Masks will not be required for vaccinated individuals. See you then!
URL:https://roanokepinballleague.com/event/hot-as-pinballs-july-tournament/
LOCATION:Roanoke Pinball Museum\, 1 Market Square SE (2nd Floor)\, Roanoke\, VA\, 24011\, United States
CATEGORIES:tournament
ATTACH;FMTTYPE=image/jpeg:https://roanokepinballleague.com/wp-content/uploads/2021/06/image-2.jpg
ORGANIZER;CN="Ben Dudden":MAILTO:roanokepinballleague@gmail.com
END:VEVENT
BEGIN:VEVENT
DTSTART;TZID=America/New_York:20210627T180000
DTEND;TZID=America/New_York:20210627T200000
DTSTAMP:20260424T014836
CREATED:20210609T222502Z
LAST-MODIFIED:20210628T011848Z
UID:232-1624816800-1624824000@roanokepinballleague.com
SUMMARY:Summer Kickoff "Just-For-Fun" June Tournament
DESCRIPTION:We’re finally ready to start tournaments up again before kicking off the Fall League in September\, so join us for a friendly competition open to all skill levels!\n\nTo register in advance\, please send your entry fee to roanokepinballleague@gmail.com\, via Paypal\, Zelle\, or Venmo. (Be sure to select “Friends and Family” if using Paypal.)\nIf paying in person on the day\, cash or one the above payment methods will be required. We cannot process credit cards for this tournament.\n\nCost is $15 to enter\, or $10 for current VIP patrons of the Roanoke Pinball Museum.\nDoors open for practice play at 5:45 PM. Masks will not be required for vaccinated individuals. See you then!
URL:https://roanokepinballleague.com/event/summer-kickoff-just-for-fun-june-tournament/
LOCATION:Roanoke Pinball Museum\, 1 Market Square SE (2nd Floor)\, Roanoke\, VA\, 24011\, United States
CATEGORIES:tournament
ATTACH;FMTTYPE=image/jpeg:https://roanokepinballleague.com/wp-content/uploads/2021/06/198701989_10106440766080548_7920626544941898314_n.jpg
ORGANIZER;CN="Ben Dudden":MAILTO:roanokepinballleague@gmail.com
END:VEVENT
BEGIN:VEVENT
DTSTART;TZID=America/New_York:20210321T180000
DTEND;TZID=America/New_York:20210321T210000
DTSTAMP:20260424T014836
CREATED:20210310T222511Z
LAST-MODIFIED:20210609T225031Z
UID:221-1616349600-1616360400@roanokepinballleague.com
SUMMARY:Masked-Up & Flipped-Out Tournament II - Redux
DESCRIPTION:Let’s try this again. It’s a new year\, and we’ve got some brand new games to play\, so we hope you’ll join us for another casual tournament. Open to the public\, all skills levels welcome. \nThis competition will be unofficial\, as IFPA is as of yet not sanctioning events. Format to be determined\, depending on attendance. \nAll participants must wear face masks for the entirety of the competition\, and hand sanitizer will be provided. Limited to 20 participants\, so pre-registration may be necessary to ensure your spot. (You can pay on the day\, but we cannot guarantee availability.) \nCost is $15 to enter ($10 for current VIP Pinball Museum patrons). To reserve your spot\, please send your entry fee to roanokepinballleague@gmail.com\, via Paypal\, Zelle\, or Venmo. (Be sure to select “Friends and Family” if using Paypal.) \nIf paying in person on the day\, cash or one the above payment methods will be required. We cannot process credit cards for this tournament. \nDoors open for practice play at 5:45 PM.\nSee you then!
URL:https://roanokepinballleague.com/event/masked-up-flipped-out-tournament-ii-redux/
LOCATION:Roanoke Pinball Museum\, 1 Market Square SE (2nd Floor)\, Roanoke\, VA\, 24011\, United States
CATEGORIES:tournament
ATTACH;FMTTYPE=image/jpeg:https://roanokepinballleague.com/wp-content/uploads/2020/09/sttng.jpg
ORGANIZER;CN="Ben Dudden":MAILTO:roanokepinballleague@gmail.com
END:VEVENT
BEGIN:VEVENT
DTSTART;TZID=America/New_York:20201005T183000
DTEND;TZID=America/New_York:20201005T203000
DTSTAMP:20260424T014836
CREATED:20200929T151644Z
LAST-MODIFIED:20210310T222534Z
UID:210-1601922600-1601929800@roanokepinballleague.com
SUMMARY:Masked-Up & Flipped-Out Tournament
DESCRIPTION:It’s been a while\, and things are still up in the air\, but we’re ready to have you back for a new season of tournaments\, hopefully with some league play later this year. \nWe’ll kick things off in October with a casual tournament\, and the usual rules apply. $15 to enter ($10 for current museum sponsors). \nAll participants must wear face masks for the entirety of the competition. Hand sanitizer will be provided. Limit of 15 participants\, so pre-registration will be necessary to ensure your spot. \nPlease send your entry fee to roanokepinballleague@gmail.com\, via Paypal\, Zelle\, or Venmo. (Be sure to select “Friends and Family” if using Paypal.) \nThis competition will be unofficial\, as IFPA is not yet sanctioning events. Format to be determined\, though possibly PinGolf\, depending on attendance and interest. \nHope to see you back with us!
URL:https://roanokepinballleague.com/event/masked-up-flipped-out-tournament/
LOCATION:Roanoke Pinball Museum\, 1 Market Square SE (2nd Floor)\, Roanoke\, VA\, 24011\, United States
CATEGORIES:tournament
ATTACH;FMTTYPE=image/jpeg:https://roanokepinballleague.com/wp-content/uploads/2020/09/sttng.jpg
END:VEVENT
BEGIN:VEVENT
DTSTART;TZID=America/New_York:20200209T180000
DTEND;TZID=America/New_York:20200209T210000
DTSTAMP:20260424T014836
CREATED:20200120T173911Z
LAST-MODIFIED:20200303T191024Z
UID:97-1581271200-1581282000@roanokepinballleague.com
SUMMARY:February Sweethearts Pinball Tournament
DESCRIPTION:This month\, PINBALL is for Lovers! \nIt’s our last tournament for the winter before Spring League officially kicks off\, and we want to pack the house – so bring a date\, your S.O.\, partner\, or just a good friend for a fun night of pinball\, and a chance to win some cash! \nFormat TBD but will likely be either a round robin or group match play style\, to avoid early eliminations and keep everyone playing. This one’s just for fun\, and will not be IFPA-sanctioned. \nAs usual\, entry will be $15 to be split between museum admission and prize money\, or just $10 if you’re a current Roanoke Pinball Museum supporter. This will be a CASH ONLY event.
URL:https://roanokepinballleague.com/event/february-sweethearts-pinball-tournament/
LOCATION:Roanoke Pinball Museum\, 1 Market Square SE (2nd Floor)\, Roanoke\, VA\, 24011\, United States
CATEGORIES:tournament
ATTACH;FMTTYPE=image/jpeg:https://roanokepinballleague.com/wp-content/uploads/2020/01/figlerowicz.jpg
ORGANIZER;CN="Ben Dudden":MAILTO:roanokepinballleague@gmail.com
END:VEVENT
BEGIN:VEVENT
DTSTART;TZID=America/New_York:20200112T180000
DTEND;TZID=America/New_York:20200112T210000
DTSTAMP:20260424T014836
CREATED:20191212T173809Z
LAST-MODIFIED:20210609T223804Z
UID:63-1578852000-1578862800@roanokepinballleague.com
SUMMARY:January Holiday Hangover Tournament
DESCRIPTION:You asked for it\, and next month\, we’re finally doing it — an IFPA-sanctioned Group Match Play tournament! \nThe tournament will consist of 8 rounds. All players will play in all rounds in groups of 3 or 4 on randomly selected machines. Players will receive points each round depending on where they finish. (7 points for 1st place\, 5 points for 2nd\, 3 points for 3rd\, and 1 point for 4th. Groups of 3 scoring will be 7/4/1.) The player with the most points after 8 rounds will win. Tiebreaks will be decided on a single final game chosen at random\, with cash prizes awarded. \nReminder that this event is CASH ONLY.  $15 entry will be split between access to the museum\, as well as prize money for the winners.
URL:https://roanokepinballleague.com/event/january-holiday-hangover-tournament/
LOCATION:Roanoke Pinball Museum\, 1 Market Square SE (2nd Floor)\, Roanoke\, VA\, 24011\, United States
CATEGORIES:tournament
ATTACH;FMTTYPE=image/png:https://roanokepinballleague.com/wp-content/uploads/2019/12/Snow-Derby-Gottlieb-1970.backglass-600x480.png
ORGANIZER;CN="Ben Dudden":MAILTO:roanokepinballleague@gmail.com
END:VEVENT
BEGIN:VEVENT
DTSTART;TZID=America/New_York:20191208T180000
DTEND;TZID=America/New_York:20191208T210000
DTSTAMP:20260424T014836
CREATED:20191123T190043Z
LAST-MODIFIED:20210609T223837Z
UID:4-1575828000-1575838800@roanokepinballleague.com
SUMMARY:December Round Robin Tournament
DESCRIPTION:This month\, eliminations are… well\, eliminated! Instead of a Knockout-style tournament\, this time we’ll do a Round Robin (or possibly Double Round Robin\, depending on attendance).\nWhat will happen is everyone will play everyone else exactly once (or twice in the Double)\, and the person with the most victories wins the prize money for the night.\nThis event will not be IFPA-sanctioned\, but the plan is that the NEXT one we do will be\, so watch out for that if you are looking for those sweet sweet IFPA points.\nAs usual\, cost will be $15 to enter ($10 for Museum members)\, with cost being split between museum admission and prize money for the winners. CASH ONLY please.\nThe Roanoke Pinball Museum is located at 1 Market Square SE\, inside the Center in the Square building downtown. There is a parking garage next door. Please enter through the front entrance of the Center building.
URL:https://roanokepinballleague.com/event/december-round-robin-tournament/
LOCATION:Roanoke Pinball Museum\, 1 Market Square SE (2nd Floor)\, Roanoke\, VA\, 24011\, United States
CATEGORIES:tournament
ATTACH;FMTTYPE=image/jpeg:https://roanokepinballleague.com/wp-content/uploads/2019/12/tumblr_myanjzx4Z21r3eb0uo1_1280.jpg
ORGANIZER;CN="Ben Dudden":MAILTO:roanokepinballleague@gmail.com
END:VEVENT
BEGIN:VEVENT
DTSTART;TZID=America/New_York:20191110T180000
DTEND;TZID=America/New_York:20191110T210000
DTSTAMP:20260424T014836
CREATED:20191026T160025Z
LAST-MODIFIED:20210609T224546Z
UID:26-1573408800-1573419600@roanokepinballleague.com
SUMMARY:November Knock-Out Tournament
DESCRIPTION:We had so much fun last time\, we decided to it again! Come on down for a 3-Strikes Knockout Tournament\, with cash prizes going to the 1st and 2nd place winners. You’ll play head-to-head against randomly selected competitors and machines. \n$15 entry covers admission to the museum as well as prize money ($10 entry for Museum members). CASH ONLY PLEASE!
URL:https://roanokepinballleague.com/event/november-knock-out-tournament/
LOCATION:Roanoke Pinball Museum\, 1 Market Square SE (2nd Floor)\, Roanoke\, VA\, 24011\, United States
CATEGORIES:knockout,tournament
ATTACH;FMTTYPE=image/jpeg:https://roanokepinballleague.com/wp-content/uploads/2019/12/71034801_10104968792657088_4865097150545002496_n.jpg
ORGANIZER;CN="Ben Dudden":MAILTO:roanokepinballleague@gmail.com
END:VEVENT
END:VCALENDAR